BEGIN:VCALENDAR
PRODID:NingEventWidget-v1
VERSION:2.0
METHOD:PUBLISH
BEGIN:VTIMEZONE
TZID:Europe/Paris
X-LIC-LOCATION:Europe/Paris
BEGIN:DAYLIGHT
TZOFFSETFROM:+0100
TZOFFSETTO:+0200
TZNAME:CEST
DTSTART:19700329T020000
RRULE:FREQ=YEARLY;BYMONTH=3;BYDAY=-1SU
END:DAYLIGHT
BEGIN:STANDARD
TZOFFSETFROM:+0200
TZOFFSETTO:+0100
TZNAME:CET
DTSTART:19701025T030000
RRULE:FREQ=YEARLY;BYMONTH=10;BYDAY=-1SU
END:STANDARD
END:VTIMEZONE
BEGIN:VEVENT
UID:2485226:Event:167334
DTSTAMP:20260419T151354Z
SUMMARY:Atelier \"Qi-Gong pour Tous\"
DESCRIPTION:Atelier Â« QI-GONG POUR TOUS Â»\n\nLe Qi-gong est une prat
 ique ancestrale, un art qui repose sur une conception particuliÃ¨re du
  monde : tout Ãªtre est constituÃ© et animÃ© par une Ã©nergie vitale..
 .\n\nle Qi\n\nL'initiation que je vous propose permet de comprendre ce
 la et ensuite de maÃ®triser son Ã©nergie afin d'amÃ©liorer et entreten
 ir sa santÃ© et sa vie.\n\nCet atelier convient parfaitement aux dÃ©bu
 tants, adultes et adolescents, ainsi qu'aux thÃ©rapeutes.\n\nÂ« Vers u
 ne approche en conscience de votre monde intÃ©rieur, afin de dÃ©velopp
 er la perception subtile de notre environnement. Â»\n\n\nle : Dimanche
  19 DÃ©cembre 2010, au Â« Centre Â» Ã  Mouans Sartoux, 520 Route des A
 spres\nHoraire : 14h â€“ 17h\nTarif de l'atelier : 25 euros\n\n\nL'ate
 lier est articulÃ© de la faÃ§on suivante :\n\nPrÃ©sentation : Les orig
 ines du Qi-gong - Les variantes du Qi-gong selon l'orientation dÃ©sirÃ
 ©e.\n\nSÃ©ance pratique, en extÃ©rieur (sauf en cas de forte pluie) : 
 1 h d'exercices autour du mouvement et de la respiration. Marche en co
 nscience, Exercices de mouvement et d'observation, Exercices de respir
 ation, Posture de l'Arbre.\n\nEchanges des ressentis de la sÃ©ance. Co
 llation : thÃ©, tisanes.\n\nSÃ©ance pratique, en intÃ©rieur : 1 h d'ex
 ercices- vibrations, percussions, postures, Ã©mission de sons.\n\nEcha
 nges Ã  l'issue de la sÃ©ance.\n\n*Tenue souple et confortable - Aucun
 e condition physique particuliÃ¨re n'est requise.\n\n\nCet atelier est
  animÃ© par : Marie-RaphaÃ«le Vanuxem\nAccompagnante au Mieux-Etre par
  le toucher, RÃ©flexologue Plantaire, MassothÃ©rapeute,\nInitiatrice a
 u Qi-Gong, ConfÃ©renciÃ¨re, Photographe d'Aura-Consultations en dÃ©vel
 oppement personnel.\n\nInscriptions et Renseignements : 06.28.26.11.06
  â€“\nMail : Marie.Raphaele@free.fr\n\nPour plus d'information, aller 
 sur https://epanews.fr/events/atelier-qigong-pour-tous
DTSTART;TZID=Europe/Paris:20101219T140000
DTEND;TZID=Europe/Paris:20101219T170000
CATEGORIES:06, 83
LOCATION:Mouans Sartoux
WEBSITE:
URL:
CONTACT:0628261106
ORGANIZER;CN="Marie Raphaele Vanuxem":https://epanews.fr/profile/Marie
 RaphaeleVanuxem
ATTACH;FMTTYPE="image/jpeg":http://storage.ning.com/topology/rest/1.0/
 file/get/1662367084?profile=original
ATTENDEE;ROLE=REQ-PARTICIPANT;PARTSTAT=ACCEPTED;RSVP=TRUE;CN="Marie Ra
 phaele Vanuxem":https://epanews.fr/profile/MarieRaphaeleVanuxem
END:VEVENT
END:VCALENDAR
