BEGIN:VCALENDAR
PRODID:NingEventWidget-v1
VERSION:2.0
METHOD:PUBLISH
BEGIN:VTIMEZONE
TZID:Europe/Paris
X-LIC-LOCATION:Europe/Paris
BEGIN:DAYLIGHT
TZOFFSETFROM:+0100
TZOFFSETTO:+0200
TZNAME:CEST
DTSTART:19700329T020000
RRULE:FREQ=YEARLY;BYMONTH=3;BYDAY=-1SU
END:DAYLIGHT
BEGIN:STANDARD
TZOFFSETFROM:+0200
TZOFFSETTO:+0100
TZNAME:CET
DTSTART:19701025T030000
RRULE:FREQ=YEARLY;BYMONTH=10;BYDAY=-1SU
END:STANDARD
END:VTIMEZONE
BEGIN:VEVENT
UID:2485226:Event:918891
DTSTAMP:20260424T005524Z
SUMMARY:Atelier : Principe de l’Andro-Gyna   L’harmonie entre le
  Masculin et le Féminin en nous et en tout.
DESCRIPTION:Atelier : Principe de l’Andro-Gyna \nL’harmonie entr
 e le Masculin et le Féminin en nous et en tout.\nSamedi 22/09/2012 et
  dimanche 23/09/2012\n\nPour plus d'information, aller sur https://epa
 news.fr/events/atelier-principe-de-l-andro-gyna-l-harmonie-entre-le-ma
 sculin-et
DTSTART;TZID=Europe/Paris:20120922T000000
DTEND;TZID=Europe/Paris:20120923T235900
CATEGORIES:33750
LOCATION:NERIGEAN entre Bordeaux et Libourne
WEBSITE:http://www.Soli-luna.com -  http://www.couestiondemethode.com
URL:http://www.Soli-luna.com -  http://www.couestiondemethode.com
CONTACT:06 63 90 35 27
ORGANIZER:Coué Annick et Pierre Dupuis
ATTACH;FMTTYPE="image/jpeg":
ATTENDEE;ROLE=REQ-PARTICIPANT;PARTSTAT=ACCEPTED;RSVP=TRUE;CN=Annick:ht
 tps://epanews.fr/profile/Anikou
END:VEVENT
END:VCALENDAR
