BEGIN:VCALENDAR
PRODID:NingEventWidget-v1
VERSION:2.0
METHOD:PUBLISH
BEGIN:VTIMEZONE
TZID:Europe/Paris
X-LIC-LOCATION:Europe/Paris
BEGIN:DAYLIGHT
TZOFFSETFROM:+0100
TZOFFSETTO:+0200
TZNAME:CEST
DTSTART:19700329T020000
RRULE:FREQ=YEARLY;BYMONTH=3;BYDAY=-1SU
END:DAYLIGHT
BEGIN:STANDARD
TZOFFSETFROM:+0200
TZOFFSETTO:+0100
TZNAME:CET
DTSTART:19701025T030000
RRULE:FREQ=YEARLY;BYMONTH=10;BYDAY=-1SU
END:STANDARD
END:VTIMEZONE
BEGIN:VEVENT
UID:2485226:Event:65735
DTSTAMP:20260419T224357Z
SUMMARY:ATELIER «Pratiques et Enseignements de Sagesse Universelle»
DESCRIPTION:Une corrélation existe entre les différentes traditions 
 qui nous permettent de découvrir le sens profond de la Roue Médecine
 . Chaque élément contient un enseignement et une sagesse en harmonie
  avec la Nature. Les ateliers à venir auront pour vocation d'étudier
  et de ressentir selon les lois d'analogie, la correspondance et la co
 ncordance entre manifestation extérieure et manifestation intérieure
  pour retrouver l'équilibre et libérer les énergies créatrices.\n\
 nCes ateliers ont pour vocation de :\nDévelopper la connaissance de s
 oi par l'observation, la compréhension et l'intégration des principe
 s et lois de l'Univers,\nHarmoniser le corps et l'esprit par les prati
 ques ancestrales énergétiques et méditatives,\ns'ouvrir à l'écout
 e et à la parole actives lors de nos échanges,\n\n\nTarif : 12 € l
 a séance\n\nINSCRIPTION NECESSAIRE :\nSoara DEBARD\n6 place du Temple
  - Les Vans (07)\ntél. : 04 75 38 40 69 / 06 80 73 62 04 email : soar
 a.d@hotmail.fr\n\nPour plus d'information, aller sur https://epanews.f
 r/events/atelier-pratiques-et
DTSTART;TZID=Europe/Paris:20100601T200000
DTEND;TZID=Europe/Paris:20100601T220000
CATEGORIES:07
LOCATION:LES VANS
WEBSITE:
URL:
CONTACT:06 80 73 62 04
ORGANIZER;CN="Soara Debard":https://epanews.fr/profile/SoaraDebard
ATTACH;FMTTYPE="image/jpeg":http://storage.ning.com/topology/rest/1.0/
 file/get/1662304045?profile=original
ATTENDEE;ROLE=REQ-PARTICIPANT;PARTSTAT=ACCEPTED;RSVP=TRUE;CN="Soara De
 bard":https://epanews.fr/profile/SoaraDebard
END:VEVENT
END:VCALENDAR
