BEGIN:VCALENDAR
PRODID:NingEventWidget-v1
VERSION:2.0
METHOD:PUBLISH
BEGIN:VTIMEZONE
TZID:Europe/Paris
X-LIC-LOCATION:Europe/Paris
BEGIN:DAYLIGHT
TZOFFSETFROM:+0100
TZOFFSETTO:+0200
TZNAME:CEST
DTSTART:19700329T020000
RRULE:FREQ=YEARLY;BYMONTH=3;BYDAY=-1SU
END:DAYLIGHT
BEGIN:STANDARD
TZOFFSETFROM:+0200
TZOFFSETTO:+0100
TZNAME:CET
DTSTART:19701025T030000
RRULE:FREQ=YEARLY;BYMONTH=10;BYDAY=-1SU
END:STANDARD
END:VTIMEZONE
BEGIN:VEVENT
UID:2485226:Event:745580
DTSTAMP:20260423T190121Z
SUMMARY:Stage \"DÃ©veloppez vos facultÃ©s psychiques et spirituelles\"
  par Serge Boutboul
DESCRIPTION:Â«Â Nous possÃ©dons tous des facultÃ©s psychiques et spiri
 tuelles qui sont Ã  lâ€™Ã©tat latent en chacun de nous. Ces facultÃ©s 
 sont Ã  notre disposition et nous pouvons les dÃ©velopper de faÃ§on na
 turelle Ã  partir de connaissances exactes et non de croyances. Pour d
 Ã©couvrir ces facultÃ©s, le meilleur moyen est de les expÃ©rimenter so
 i mÃªme, de les rÃ©veiller et de les faire travailler correctement. El
 lesÂ  ne sont pas rÃ©servÃ©es uniquement Ã  des personnes douÃ©esâ€¦Â 
 Â»\nStage de 10h Ã  17h30 - RÃ©servations indispensables - Places limi
 tÃ©es - Prix de l'atelier 85â‚¬\nÂ \nÂ \n\nÂ \nÂ Â Â Â Â Â Â Â Â Â Â Â
  Â Â Â Â Â Â Â Â Â Â Â Â \n\n\nPour plus d'information, aller sur http
 s://epanews.fr/events/atelier-pratique-ouverture-et-d-veloppement-prat
 ique-de-vos
DTSTART;TZID=Europe/Paris:20120422T100000
DTEND;TZID=Europe/Paris:20120422T173000
CATEGORIES:33, 17, 24, 40, 64
LOCATION:bordeaux
WEBSITE:
URL:
CONTACT:05 56 51 38 12
ORGANIZER;CN="Librairie PEGASE":https://epanews.fr/profile/LibrairiePE
 GASE
ATTACH;FMTTYPE="image/jpeg":http://storage.ning.com/topology/rest/1.0/
 file/get/1662580055?profile=original
ATTENDEE;ROLE=REQ-PARTICIPANT;PARTSTAT=ACCEPTED;RSVP=TRUE;CN="Librairi
 e PEGASE":https://epanews.fr/profile/LibrairiePEGASE
END:VEVENT
END:VCALENDAR
