BEGIN:VCALENDAR
PRODID:NingEventWidget-v1
VERSION:2.0
METHOD:PUBLISH
BEGIN:VTIMEZONE
TZID:Europe/Paris
X-LIC-LOCATION:Europe/Paris
BEGIN:DAYLIGHT
TZOFFSETFROM:+0100
TZOFFSETTO:+0200
TZNAME:CEST
DTSTART:19700329T020000
RRULE:FREQ=YEARLY;BYMONTH=3;BYDAY=-1SU
END:DAYLIGHT
BEGIN:STANDARD
TZOFFSETFROM:+0200
TZOFFSETTO:+0100
TZNAME:CET
DTSTART:19701025T030000
RRULE:FREQ=YEARLY;BYMONTH=10;BYDAY=-1SU
END:STANDARD
END:VTIMEZONE
BEGIN:VEVENT
UID:2485226:Event:2344241
DTSTAMP:20260422T212741Z
SUMMARY:Modification demandÃ©e
DESCRIPTION:\nAtelier sur les principes de la loi dâ€™attraction\nPart
 ie 1\nÃ  lâ€™Ã©cole Espace Des Possibles Ã  Marseille\nÂ  \n Quâ€™est-
 ce que la loi dâ€™attraction ?\nLa loi dâ€™Attraction est une loi de l
 â€™univers vÃ©rifiÃ©e par la physique quantique, qui dit que tout dans
  lâ€™univers est Ã©nergie et Ã©met une frÃ©quence, y compris la pensÃ©
 e.\nCette frÃ©quence Ã©mise attire Ã  elle des frÃ©quences similaires,
  que nous en soyons conscients ou pas.\n\nÂ« Nous devenons ce Ã  quoi 
 nous pensons le plus souvent Â».Earl Nightingale\n\nCâ€™est un peu com
 me si nous Ã©tions de gigantesques aimants attirant Ã  nous ce que nou
 s Ã©mettons Ã  partir de nos attitudes, nos Ã©motions, nos pensÃ©es.\n
 \nLa thÃ©orie quantique nous montre que lâ€™intention de lâ€™observate
 ur influe sur le rÃ©sultat observÃ©. La rÃ©alitÃ© nâ€™est donc pas fig
 Ã©e.\nNous pouvons choisir de reprendre la main surce que nous Ã©metto
 ns, et attirez Ã  nous ce que nous dÃ©sirons. \nDans cet atelier, nous
  allons expÃ©rimenter comment devenir Co-CrÃ©ateurs et Acteurs de notr
 e rÃ©alitÃ©.\n\nPour prÃ©parer ces soirÃ©es, vous aurez besoin :\nDâ€™
 un cahier ou bloc-notes, dâ€™un stylo\nEcrivez vos rÃªves, vos projets
 , vos objectifs, qui peuvent concerner des Ã©lÃ©ments matÃ©riels, fina
 nciers, un Ã©tat dâ€™Ãªtre, des projets de vie ou professionnels.\n RÃ
 ©pondre Ã  une question :\n1) en quoi cette intention peut Ãªtre aussi
  utile, Ã  mes proches, aux autres, Ã  la\nplanÃ¨te ?\nÂ Contenu de lâ
 €™atelier\n\nApprendre Ã  orienter la loi dâ€™Attraction Ã  partir dâ€
 ™une Â« posture Â» intÃ©rieure spÃ©cifique\nIdentifier les dÃ©fis, le 
 Â« pourquoi Ã§a ne marche pas Â» et dÃ©couvrir les Â« antidotesÂ Â»\nE
 xpÃ©rimentation pratique et ludique\n\n Atelier dâ€™une journÃ©e ou en
  soirÃ©e (6H00)\nLes ateliers se dÃ©roulent Ã  Marseille\n\nDates de l
 â€™atelier sur la Loi dâ€™attraction Ã  Marseille :\nVendredi 12 et 19
  juin 2015\nDe 18H30 Ã  21H30\n\nTarif : 90 â‚¬ (6 heures)\nTarif rÃ©d
 uit : 45 â‚¬\nEtudiants,\nrevenusÂ : moins de 1000â‚¬ par mois\nperson
 nes ayant fait un stage ou atelier avec moi\n5 premiers inscrits sur c
 e site \nEnseignement : Manushka Chamboissier \nFormatrice, directrice
  de l'Ã©cole\n\nRenseignements et rÃ©servation : 06 87 53 11 15\nSite 
 internet : formation-massages-energÃ©tique.fr\n\n\nPour plus d'informa
 tion, aller sur https://epanews.fr/events/atelier-pratique-loi-d-attra
 ction
DTSTART;TZID=Europe/Paris:20150612T183000
DTEND;TZID=Europe/Paris:20150612T213000
CATEGORIES:13
LOCATION:Marseille
WEBSITE:http://www.formation-massages-energetique.fr
URL:http://www.formation-massages-energetique.fr
CONTACT:0687531115
ORGANIZER;CN=Manushka:https://epanews.fr/profile/Manushka
ATTACH;FMTTYPE="image/jpeg":http://storage.ning.com/topology/rest/1.0/
 file/get/1663410712?profile=original
ATTENDEE;ROLE=REQ-PARTICIPANT;PARTSTAT=ACCEPTED;RSVP=TRUE;CN=Manushka:
 https://epanews.fr/profile/Manushka
END:VEVENT
END:VCALENDAR
