BEGIN:VCALENDAR
PRODID:NingEventWidget-v1
VERSION:2.0
METHOD:PUBLISH
BEGIN:VTIMEZONE
TZID:Europe/Paris
X-LIC-LOCATION:Europe/Paris
BEGIN:DAYLIGHT
TZOFFSETFROM:+0100
TZOFFSETTO:+0200
TZNAME:CEST
DTSTART:19700329T020000
RRULE:FREQ=YEARLY;BYMONTH=3;BYDAY=-1SU
END:DAYLIGHT
BEGIN:STANDARD
TZOFFSETFROM:+0200
TZOFFSETTO:+0100
TZNAME:CET
DTSTART:19701025T030000
RRULE:FREQ=YEARLY;BYMONTH=10;BYDAY=-1SU
END:STANDARD
END:VTIMEZONE
BEGIN:VEVENT
UID:2485226:Event:163838
DTSTAMP:20260422T030732Z
SUMMARY: ATELIER pour que la vie PETILLE au quotidien
DESCRIPTION:\nUne journée pour commencer un parcours régulier et pro
 gressif qui permet de s'approprier des outils pratiques, applicables a
 u quotidien.\nA partir de situations concrètes, avec des jeux relatio
 nnels, des exercices dynamiques, vous expérimentez des nouvelles tech
 niques de communication vivantes et authentiques et apprendrez à lâc
 her votre mental.\n\nAnimé par Corinne Cygler,\nFormatrice de formate
 urs certifiée en Méthode ESPERE®\ncréée par Jacques SALOME\n\nRen
 seignements et Inscription : 04 42 51 47 20 / 06 60 87 72 24\nParticip
 ation : 80€\ncorinnecygler@yahoo.fr, www.ca-cree-la-vie.fr\n\nPour p
 lus d'information, aller sur https://epanews.fr/events/atelier-pour-qu
 e-la-vie
DTSTART;TZID=Europe/Paris:20101212T130000
DTEND;TZID=Europe/Paris:20101212T190000
CATEGORIES:13
LOCATION:MARSEILLE 4EME
WEBSITE:
URL:
CONTACT:04 42 51 47 20 / 06 60 87 72 24 
ORGANIZER:Corinne Cygler
ATTACH;FMTTYPE="image/jpeg":http://storage.ning.com/topology/rest/1.0/
 file/get/1662363966?profile=original
ATTENDEE;ROLE=REQ-PARTICIPANT;PARTSTAT=ACCEPTED;RSVP=TRUE;CN="HERRAIZ 
 PATRICIA":https://epanews.fr/profile/HZPATRICIA
END:VEVENT
END:VCALENDAR
