BEGIN:VCALENDAR
PRODID:NingEventWidget-v1
VERSION:2.0
METHOD:PUBLISH
BEGIN:VTIMEZONE
TZID:Europe/Paris
X-LIC-LOCATION:Europe/Paris
BEGIN:DAYLIGHT
TZOFFSETFROM:+0100
TZOFFSETTO:+0200
TZNAME:CEST
DTSTART:19700329T020000
RRULE:FREQ=YEARLY;BYMONTH=3;BYDAY=-1SU
END:DAYLIGHT
BEGIN:STANDARD
TZOFFSETFROM:+0200
TZOFFSETTO:+0100
TZNAME:CET
DTSTART:19701025T030000
RRULE:FREQ=YEARLY;BYMONTH=10;BYDAY=-1SU
END:STANDARD
END:VTIMEZONE
BEGIN:VEVENT
UID:2485226:Event:859024
DTSTAMP:20260422T100521Z
SUMMARY:Atelier pour Libérer sa créativité
DESCRIPTION:Nadia Salerno et moi-même, respectivement animatrice d'ex
 pression créative par l'argile et animatrice d'ateliers de bien être
 , vous proposons un atelier pour Libérer votre créativité accessi
 ble à tous.\nNous avons tous en chacun de nous un potentiel créatif 
 très souvent ignoré qui ne demande qu'à s'exprimer. Aller à la dé
 couverte de sa propre créativité est un voyage au-delà des limites 
 que nous nous sommes posées, une ouverture vers qui nous sommes réel
 lement, un chemin ressourçant, régénérant permettant de vivre chaq
 ue instant plus intensément.\nNous vous inviterons à toucher du doig
 t le monde de l'imaginaire et à laisser émerger vos sensations. Lâ
 cher prise, estime de soi, confiance en soi vous seront offerts via c
 ette ouverture à la créativité\n \nTechniques permettant de déve
 lopper ses ressentis : écriture créative et ludique, arts plastiques
 , argile... \n \n Au plaisir de partager ce moment en votre compagni
 e,\n\nPour plus d'information, aller sur https://epanews.fr/events/ate
 lier-pour-lib-rer-sa-cr-ativit
DTSTART;TZID=Europe/Paris:20120701T000000
DTEND;TZID=Europe/Paris:20120701T235900
CATEGORIES:44
LOCATION:Salle St Etienne
WEBSITE:http://therapeute44.free.fr
URL:http://therapeute44.free.fr
CONTACT:0617063295
ORGANIZER;CN=Annabelle:https://epanews.fr/profile/Annabelle
ATTACH;FMTTYPE="image/jpeg":http://storage.ning.com/topology/rest/1.0/
 file/get/1662627850?profile=original
ATTENDEE;ROLE=REQ-PARTICIPANT;PARTSTAT=ACCEPTED;RSVP=TRUE;CN=Annabelle
 :https://epanews.fr/profile/Annabelle
END:VEVENT
END:VCALENDAR
