BEGIN:VCALENDAR
PRODID:NingEventWidget-v1
VERSION:2.0
METHOD:PUBLISH
BEGIN:VTIMEZONE
TZID:Europe/Paris
X-LIC-LOCATION:Europe/Paris
BEGIN:DAYLIGHT
TZOFFSETFROM:+0100
TZOFFSETTO:+0200
TZNAME:CEST
DTSTART:19700329T020000
RRULE:FREQ=YEARLY;BYMONTH=3;BYDAY=-1SU
END:DAYLIGHT
BEGIN:STANDARD
TZOFFSETFROM:+0200
TZOFFSETTO:+0100
TZNAME:CET
DTSTART:19701025T030000
RRULE:FREQ=YEARLY;BYMONTH=10;BYDAY=-1SU
END:STANDARD
END:VTIMEZONE
BEGIN:VEVENT
UID:2485226:Event:2863580
DTSTAMP:20260422T012327Z
SUMMARY:atelier\"pour bien commencer la rentrée\"
DESCRIPTION:Atelier Pour bien commencer la rentrée\" par Colette Salv
 anez, thérapeute holistique\nLe mercredi 20 septembre de 14h à 17h00
 \nLe stress, le sommeil ... deux fléaux de notre vie !!\nCe que cela 
 fait dans notre corps, dans notre esprit, dans notre affect (notre coe
 ur).\nComment défaire, dès le départ tout ce qui essaie de se mettr
 e en place, comment décrypter les premiers signes.\nCet atelier allie
 ra les pierres, les couleurs, certains points chinois, les huiles esse
 ntielles, les plantes, le pendule, le taux vibratoire ....\nTout cela 
 d'un façon ludique, facile mais rigoureuse.\nTarifs :25€ non adhér
 ent20€ adhérent\nInscription : Nadège 06.23.01.35.96 ou larcenciel
 dupartage@gmail.com\nLieu :1 rue garancière 11100 Narbonnewww.larcenc
 ieldupartage.org\n\nPour plus d'information, aller sur https://epanews
 .fr/events/atelier-pour-bien-commencer-la-rentr-e
DTSTART;TZID=Europe/Paris:20170920T140000
DTEND;TZID=Europe/Paris:20170920T170000
CATEGORIES:11
LOCATION:narbonne
WEBSITE:http://www.larcencieldupartage.org
URL:http://www.larcencieldupartage.org
CONTACT:0623013596
ORGANIZER;CN="L'arc en ciel du partage":https://epanews.fr/profile/Lar
 cencieldupartage
ATTACH;FMTTYPE="image/jpeg":http://storage.ning.com/topology/rest/1.0/
 file/get/1663683381?profile=original
ATTENDEE;ROLE=REQ-PARTICIPANT;PARTSTAT=ACCEPTED;RSVP=TRUE;CN="L'arc en
  ciel du partage":https://epanews.fr/profile/Larcencieldupartage
END:VEVENT
END:VCALENDAR
