BEGIN:VCALENDAR
PRODID:NingEventWidget-v1
VERSION:2.0
METHOD:PUBLISH
BEGIN:VTIMEZONE
TZID:Europe/Paris
X-LIC-LOCATION:Europe/Paris
BEGIN:DAYLIGHT
TZOFFSETFROM:+0100
TZOFFSETTO:+0200
TZNAME:CEST
DTSTART:19700329T020000
RRULE:FREQ=YEARLY;BYMONTH=3;BYDAY=-1SU
END:DAYLIGHT
BEGIN:STANDARD
TZOFFSETFROM:+0200
TZOFFSETTO:+0100
TZNAME:CET
DTSTART:19701025T030000
RRULE:FREQ=YEARLY;BYMONTH=10;BYDAY=-1SU
END:STANDARD
END:VTIMEZONE
BEGIN:VEVENT
UID:2485226:Event:1325784
DTSTAMP:20260422T191147Z
SUMMARY:Atelier Pierres et Cristaux
DESCRIPTION:Dans cet atelier vous découvrirez l'origine des pierres e
 t cristaux, leurs vertus, leurs pouvoirs, les soigner, les purifier ..
 . vous apprendrez à les reconnaître et vous en servir pour contre le
 s maux du quotidien. Une quinzaine de cristaux seront abordés et un d
 ocument accompagnera l'atelier.\n\nPour plus d'information, aller sur 
 https://epanews.fr/events/atelier-pierres-et-cristaux
DTSTART;TZID=Europe/Paris:20130427T140000
DTEND;TZID=Europe/Paris:20130427T180000
CATEGORIES:69
LOCATION:Villefranche sur Saône
WEBSITE:http://www.wahl-ayurveda.fr
URL:http://www.wahl-ayurveda.fr
CONTACT:0688250037
ORGANIZER;CN=CLOVIS:https://epanews.fr/profile/CLOVIS898
ATTACH;FMTTYPE="image/jpeg":
ATTENDEE;ROLE=REQ-PARTICIPANT;PARTSTAT=ACCEPTED;RSVP=TRUE;CN=CLOVIS:ht
 tps://epanews.fr/profile/CLOVIS898
END:VEVENT
END:VCALENDAR
