BEGIN:VCALENDAR
PRODID:NingEventWidget-v1
VERSION:2.0
METHOD:PUBLISH
BEGIN:VTIMEZONE
TZID:Europe/Paris
X-LIC-LOCATION:Europe/Paris
BEGIN:DAYLIGHT
TZOFFSETFROM:+0100
TZOFFSETTO:+0200
TZNAME:CEST
DTSTART:19700329T020000
RRULE:FREQ=YEARLY;BYMONTH=3;BYDAY=-1SU
END:DAYLIGHT
BEGIN:STANDARD
TZOFFSETFROM:+0200
TZOFFSETTO:+0100
TZNAME:CET
DTSTART:19701025T030000
RRULE:FREQ=YEARLY;BYMONTH=10;BYDAY=-1SU
END:STANDARD
END:VTIMEZONE
BEGIN:VEVENT
UID:2485226:Event:3057042
DTSTAMP:20260421T155548Z
SUMMARY:Atelier Personocratia (Conscience souveraine) à Montpellier
DESCRIPTION:Victime ou Créateur ?\nSortir de la souffrance et du règ
 ne de l'égo pour donner carte blanche à mon âme, quel programme !\n
 Un week-end pour réaliser l'être souverain et créateur que je suis 
 réellement, dans tous les domaines : travail, famille, santé...\nL'a
 telier se déroulera à Montpellier - Plus de détails dans le flyer j
 oint\nMerci de me contacter pour plus d'infos : david.personocratia@gm
 ail.com\nEgalement une courte vidéo pour présenter ces ateliers  ht
 tps://youtu.be/5PilsKzXAFU\n\nPour plus d'information, aller sur https
 ://epanews.fr/events/atelier-personocratia-conscience-souveraine-montp
 ellier
DTSTART;TZID=Europe/Paris:20200404T000000
DTEND;TZID=Europe/Paris:20200405T235900
CATEGORIES:34
LOCATION:MONTPELLIER
WEBSITE:https://youtu.be/5PilsKzXAFU
URL:https://youtu.be/5PilsKzXAFU
CONTACT:
ORGANIZER;CN=david-personocratia:https://epanews.fr/profile/davidperso
 nocratia
ATTACH;FMTTYPE="image/jpeg":https://storage.ning.com/topology/rest/1.0
 /file/get/3924701202?profile=original
ATTENDEE;ROLE=REQ-PARTICIPANT;PARTSTAT=ACCEPTED;RSVP=TRUE;CN=david-per
 sonocratia:https://epanews.fr/profile/davidpersonocratia
END:VEVENT
END:VCALENDAR
