BEGIN:VCALENDAR
PRODID:NingEventWidget-v1
VERSION:2.0
METHOD:PUBLISH
BEGIN:VTIMEZONE
TZID:Europe/Paris
X-LIC-LOCATION:Europe/Paris
BEGIN:DAYLIGHT
TZOFFSETFROM:+0100
TZOFFSETTO:+0200
TZNAME:CEST
DTSTART:19700329T020000
RRULE:FREQ=YEARLY;BYMONTH=3;BYDAY=-1SU
END:DAYLIGHT
BEGIN:STANDARD
TZOFFSETFROM:+0200
TZOFFSETTO:+0100
TZNAME:CET
DTSTART:19701025T030000
RRULE:FREQ=YEARLY;BYMONTH=10;BYDAY=-1SU
END:STANDARD
END:VTIMEZONE
BEGIN:VEVENT
UID:2485226:Event:1241585
DTSTAMP:20260421T225845Z
SUMMARY:Atelier Pensée Positive et Abondance
DESCRIPTION:Découvrez les moyens pour attirer davantage l’abondance
  et la prospérité dans votre vie. Trois approches au programme:\n\nl
 a pensée positive: changez votre regard sur l’abondance\nle coachin
 g: programmez votre prospérité\nle collage créatif: accueillez l’
 abondance\n\nVos pensées sont créatrices! Vos mots sont créateurs! 
 Vos dessins sont créateurs!\nPensez à venir avec des feuilles A4 pou
 r prendre des notes et faire le collage. Amenez des magazines (au moin
 s 5 avec des thèmes différents), un ciseau et de la colle. Contactez
 -nous pour toutes questions ou pour votre réservation.\n\nPour plus 
 d'information, aller sur https://epanews.fr/events/atelier-pens-e-posi
 tive-et-abondance
DTSTART;TZID=Europe/Paris:20130619T193000
DTEND;TZID=Europe/Paris:20130619T210000
CATEGORIES:75
LOCATION:Paris 12e
WEBSITE:http://ifeelgood.fr/
URL:http://ifeelgood.fr/
CONTACT:
ORGANIZER;CN=Anandani:https://epanews.fr/profile/Anandani
ATTACH;FMTTYPE="image/jpeg":http://storage.ning.com/topology/rest/1.0/
 file/get/1662784210?profile=original
ATTENDEE;ROLE=REQ-PARTICIPANT;PARTSTAT=ACCEPTED;RSVP=TRUE;CN=Anandani:
 https://epanews.fr/profile/Anandani
END:VEVENT
END:VCALENDAR
