BEGIN:VCALENDAR
PRODID:NingEventWidget-v1
VERSION:2.0
METHOD:PUBLISH
BEGIN:VTIMEZONE
TZID:Europe/Paris
X-LIC-LOCATION:Europe/Paris
BEGIN:DAYLIGHT
TZOFFSETFROM:+0100
TZOFFSETTO:+0200
TZNAME:CEST
DTSTART:19700329T020000
RRULE:FREQ=YEARLY;BYMONTH=3;BYDAY=-1SU
END:DAYLIGHT
BEGIN:STANDARD
TZOFFSETFROM:+0200
TZOFFSETTO:+0100
TZNAME:CET
DTSTART:19701025T030000
RRULE:FREQ=YEARLY;BYMONTH=10;BYDAY=-1SU
END:STANDARD
END:VTIMEZONE
BEGIN:VEVENT
UID:2485226:Event:1978668
DTSTAMP:20260421T122634Z
SUMMARY:Atelier partage
DESCRIPTION:Vous pratiquez le Reiki et vous êtes initié (e) au 1er e
 t 2ème degré ! \nJe vous invite à venir partager vos expérience
 s avec d'autres praticiens.\nCet atelier, peut vous éclairer sur des 
 doutes, des peurs ...\nVous conforter sur vos questionnements.\nPrendr
 e la parole tout simplement pour parler de cette merveilleuse énergie
  d'amour !\nOu simplement faire connaissance !\n\nPour plus d'informat
 ion, aller sur https://epanews.fr/events/atelier-partage-1
DTSTART;TZID=Europe/Paris:20140726T143000
DTEND;TZID=Europe/Paris:20140726T173000
CATEGORIES:83
LOCATION:Saint-Antonin du var
WEBSITE:http://www.energetique-et-bien-etre.fr/agenda/atelier/atelier-
 de-partage-reiki-1-1.html
URL:http://www.energetique-et-bien-etre.fr/agenda/atelier/atelier-de-p
 artage-reiki-1-1.html
CONTACT:0617577641
ORGANIZER;CN="RUBY Marie-José":https://epanews.fr/profile/RUBYMarieJo
 se
ATTACH;FMTTYPE="image/jpeg":
ATTENDEE;ROLE=REQ-PARTICIPANT;PARTSTAT=ACCEPTED;RSVP=TRUE;CN="RUBY Mar
 ie-José":https://epanews.fr/profile/RUBYMarieJose
END:VEVENT
END:VCALENDAR
