BEGIN:VCALENDAR
PRODID:NingEventWidget-v1
VERSION:2.0
METHOD:PUBLISH
BEGIN:VTIMEZONE
TZID:Europe/Paris
X-LIC-LOCATION:Europe/Paris
BEGIN:DAYLIGHT
TZOFFSETFROM:+0100
TZOFFSETTO:+0200
TZNAME:CEST
DTSTART:19700329T020000
RRULE:FREQ=YEARLY;BYMONTH=3;BYDAY=-1SU
END:DAYLIGHT
BEGIN:STANDARD
TZOFFSETFROM:+0200
TZOFFSETTO:+0100
TZNAME:CET
DTSTART:19701025T030000
RRULE:FREQ=YEARLY;BYMONTH=10;BYDAY=-1SU
END:STANDARD
END:VTIMEZONE
BEGIN:VEVENT
UID:2485226:Event:1966854
DTSTAMP:20260421T061932Z
SUMMARY:Atelier: Osez la Confiance
DESCRIPTION:\nAtelier OSER la CONFIANCE\nÂ Â Â Â  Vous ne voulez pas..
 . Ãªtre lÃ  oÃ¹ vous Ãªtes... vous ne pouvez pas... Ãªtre lÃ  ou vous 
 aimeriez Ãªtre... Ici, maintenantÂ â€¦\nL'Ici, le Maintenant, câ€™est 
 oser se vivre en confiance\nJe vous accompagne Ã  la Prise de parole, 
 l'expression de sa difficultÃ©.\nLa dÃ©finition de votre objectifÂ : l
 'accompagnement Ã  Â«Â Re Co NaÃ®treÂ Â» vos besoins,\nÃ  dÃ©finir vot
 re plan d'action, trouver les clÃ©s de ce qui freine,\nCommencer Ã  ou
 vrir les portes vers la confiance en soi, vers sa rÃ©ussite.\nÂ Â Â Â 
  Relaxation, mise en mouvement, lÃ¢cher prise par le jeu.\nCohÃ©sion, 
 Ã©coâ€“participationÂ  par le groupe constituÃ©, prise de parole, expr
 ession corporelle.\nVenez comme vous Ãªtes.\nNous partagerons un goÃ»t
 er, vous repartirez avec Ã©motions, souvenirs, Ã©crits et\nÂ Â Â Â  Un
  quelque chose de diffÃ©rent...\nÂ Â Â Â  Â AnimÃ© par LeÃ¯la Â Â http
 ://epanews.fr/profile/Leila?xg_source=profiles_memberList#.U6v667ElgWg
  Consultante Formatrice en accompagnement personnel et dÃ©veloppement 
 des potentielsÂ  humains\n- Coach CertifiÃ©e RNCP â€“ Praticienne PNL 
 â€“ ThÃ©rapeute Ã  lâ€™accompagnement du sacrÃ© intÃ©rieur\n- Guide bi
 enveillant dans les voyages Ã  grandir.\nÂ Â Â Â  Cadre sous couvert d
 e la confidentialitÃ©.\nÂ Â Â Â  Respect, convivialitÃ©, engagement et
  authenticitÃ© sont les rÃ¨gles de fonctionnements.\nAtelier au Loft Z
 en - 12 rue Gigodot 69004 Lyon\nMercredis 23/30 Juillet - de 13 h 30 Ã
  Â  17h30\nTarifÂ : 40 euros\nRÃ©servation et confirmation des inscrip
 tions Ã  : revelervotreetre@gmail.com\n\nPour plus d'information, alle
 r sur https://epanews.fr/events/atelier-osez-la-confiance
DTSTART;TZID=Europe/Paris:20140723T133000
DTEND;TZID=Europe/Paris:20140723T173000
CATEGORIES:69
LOCATION:Loft-Zen Lyon
WEBSITE:http://goo.gl/maps/F7zXV
URL:http://goo.gl/maps/F7zXV
CONTACT:06 24 17 02 25
ORGANIZER:LeÃ¯la
ATTACH;FMTTYPE="image/jpeg":http://storage.ning.com/topology/rest/1.0/
 file/get/1663171307?profile=original
ATTENDEE;ROLE=REQ-PARTICIPANT;PARTSTAT=ACCEPTED;RSVP=TRUE;CN=Leila:htt
 ps://epanews.fr/profile/Leila
ATTENDEE;ROLE=REQ-PARTICIPANT;PARTSTAT=ACCEPTED;RSVP=TRUE;CN=gem-masse
 r:https://epanews.fr/profile/gem_masser
END:VEVENT
END:VCALENDAR
