BEGIN:VCALENDAR
PRODID:NingEventWidget-v1
VERSION:2.0
METHOD:PUBLISH
BEGIN:VTIMEZONE
TZID:Europe/Paris
X-LIC-LOCATION:Europe/Paris
BEGIN:DAYLIGHT
TZOFFSETFROM:+0100
TZOFFSETTO:+0200
TZNAME:CEST
DTSTART:19700329T020000
RRULE:FREQ=YEARLY;BYMONTH=3;BYDAY=-1SU
END:DAYLIGHT
BEGIN:STANDARD
TZOFFSETFROM:+0200
TZOFFSETTO:+0100
TZNAME:CET
DTSTART:19701025T030000
RRULE:FREQ=YEARLY;BYMONTH=10;BYDAY=-1SU
END:STANDARD
END:VTIMEZONE
BEGIN:VEVENT
UID:2485226:Event:1315761
DTSTAMP:20260421T184203Z
SUMMARY:Atelier Organisation Rangement
DESCRIPTION:JEUDI 2 MAI â€“ 20h Ã  21h30 : Rangement de la maison et Ã
 ©nergie.Le rangement chez soiDÃ©sencombrement et rÃ©organisation de lâ
 €™espace de vieOn accumule, on entasse trier plus tardâ€¦ avec le temp
 s on nâ€™ y voit plus trÃ¨s clair ! et il arrive un moment oÃ¹ il y a 
 un rÃ©el besoin de rangement !... METTRE DE L'ORDRE CHEZ SOI C'EST MET
 TRE DE L'ORDRE DANS SA TETE !Une maison rangÃ©e apporte un meilleur Ã©
 quilibre, une meilleure Ã©nergie et ainsi vous revitalise !Au cours de
  lâ€™atelier nous verrons quelles peuvent Ãªtre vos attitudes face au 
 rangement, pourquoi est-ce que Ã§a vous paraÃ®t si fastidieux et si co
 mpliquÃ© alors quâ€™en fait câ€™est trÃ¨s simple !Je vous donnerai des
  rÃ¨gles gÃ©nÃ©rales Ã  appliquer pour apprendre Ã  ranger sa maison e
 t ne plus sâ€™en faire toute une montagne.Nous dÃ©taillerons aussi le 
 rangement de chaque piÃ¨ce en particulier : toutes les bonnes astuces 
 pour un rangement rapide et efficace !AprÃ¨s cet atelier vous nâ€™aure
 z plus aucune excuse pour remettre Ã  demain ce que vous pouvez commen
 cer dÃ©s aujourdâ€™hui ! : )http://www.lebonsensdesetoiles.com/atelier
 s/organisation-rangement/*** L'ESPRIT DES ATELIERS:Des outils, des mÃ©
 thodes, en toute simplicitÃ© et convivialitÃ© avec un objectif : le pa
 rtage !Ces ateliers vous permettent dâ€™apprendre, de progresser, de p
 artager, de rencontrer, dâ€™Ã©voluer !Pendant 1h30 je vous donne des c
 lÃ©s concrÃ¨tes pour passer Ã  lâ€™action. DÃ©s la sortie de lâ€™ateli
 er, vous pourrez les mettre en application aussitÃ´t !Chaque atelier a
 ccueille 12 personnes maximum pour une meilleure convivialitÃ©.Vous po
 uvez intervenir quand vous voulez pour apporter votre contribution, ce
  qui permet un plus grand partage entre les participants et un Ã©chang
 e entre tous !Les thÃ¨mes sont prÃ©parÃ©s et prÃ©sentÃ©s par moi-mÃªme
 . Le ton se veut trÃ¨s simple et accessible Ã  tous.*** Cabinet profes
 sionnel avec une salle trÃ¨s confortable.23 rue Richelieu 75001. 80A36
 . RDC droite.12 euros par personne. 12 personnes maximum.\n\nPour plus
  d'information, aller sur https://epanews.fr/events/atelier-organisati
 on-rangement
DTSTART;TZID=Europe/Paris:20130502T200000
DTEND;TZID=Europe/Paris:20130502T213000
CATEGORIES:75
LOCATION:Salle professionnelle
WEBSITE:http://www.lebonsensdesetoiles.com
URL:http://www.lebonsensdesetoiles.com
CONTACT:
ORGANIZER:isabelle Le Bon Sens des Etoiles
ATTACH;FMTTYPE="image/jpeg":http://storage.ning.com/topology/rest/1.0/
 file/get/1662817317?profile=original
ATTENDEE;ROLE=REQ-PARTICIPANT;PARTSTAT=ACCEPTED;RSVP=TRUE;CN=isabelle:
 https://epanews.fr/profile/isabelle
END:VEVENT
END:VCALENDAR
