BEGIN:VCALENDAR
PRODID:NingEventWidget-v1
VERSION:2.0
METHOD:PUBLISH
BEGIN:VTIMEZONE
TZID:Europe/Paris
X-LIC-LOCATION:Europe/Paris
BEGIN:DAYLIGHT
TZOFFSETFROM:+0100
TZOFFSETTO:+0200
TZNAME:CEST
DTSTART:19700329T020000
RRULE:FREQ=YEARLY;BYMONTH=3;BYDAY=-1SU
END:DAYLIGHT
BEGIN:STANDARD
TZOFFSETFROM:+0200
TZOFFSETTO:+0100
TZNAME:CET
DTSTART:19701025T030000
RRULE:FREQ=YEARLY;BYMONTH=10;BYDAY=-1SU
END:STANDARD
END:VTIMEZONE
BEGIN:VEVENT
UID:2485226:Event:2935232
DTSTAMP:20260421T171007Z
SUMMARY:atelier oracle de Belline
DESCRIPTION:j'organise un atelier le mercredi 21/2/2018 sur l'oracle d
 e Belline\n\nde 14 h à 17 h à Paris\nquartier : Filles du Calvaire\n
 \n45 euros\n\n\n\n\n\nPour plus d'information, aller sur https://epane
 ws.fr/events/atelier-oracle-de-belline
DTSTART;TZID=Europe/Paris:20180221T140000
DTEND;TZID=Europe/Paris:20180221T170000
CATEGORIES:75
LOCATION:paris 3e
WEBSITE:
URL:
CONTACT:0607912782
ORGANIZER;CN=DELEAU:https://epanews.fr/profile/DELEAU
ATTACH;FMTTYPE="image/jpeg":
ATTENDEE;ROLE=REQ-PARTICIPANT;PARTSTAT=ACCEPTED;RSVP=TRUE;CN=DELEAU:ht
 tps://epanews.fr/profile/DELEAU
END:VEVENT
END:VCALENDAR
