BEGIN:VCALENDAR
PRODID:NingEventWidget-v1
VERSION:2.0
METHOD:PUBLISH
BEGIN:VTIMEZONE
TZID:Europe/Paris
X-LIC-LOCATION:Europe/Paris
BEGIN:DAYLIGHT
TZOFFSETFROM:+0100
TZOFFSETTO:+0200
TZNAME:CEST
DTSTART:19700329T020000
RRULE:FREQ=YEARLY;BYMONTH=3;BYDAY=-1SU
END:DAYLIGHT
BEGIN:STANDARD
TZOFFSETFROM:+0200
TZOFFSETTO:+0100
TZNAME:CET
DTSTART:19701025T030000
RRULE:FREQ=YEARLY;BYMONTH=10;BYDAY=-1SU
END:STANDARD
END:VTIMEZONE
BEGIN:VEVENT
UID:2485226:Event:2602763
DTSTAMP:20260422T153835Z
SUMMARY:Atelier Nouvelle Lune
DESCRIPTION:A chaque nouvelle lune, câ€™est un nouveau cycle qui comme
 nce. Câ€™est alors le moment idÃ©al, pour poser et ensemencer nos inte
 ntions crÃ©atrices, nos aspirations les plus profondes, semer les grai
 nes des petits ou grands projets qui nous tiennent Ã  cÅ“ur.\nJe vous 
 propose de nous rÃ©unir Ã  cette occasion afin dâ€™Ã©changer, de nous 
 centrer et de passer en conscience nos commandes Ã  lâ€™Univers en sâ€
 ™appuyant sur la puissance crÃ©atrice et positive des cercles de parol
 es.\nAu ProgrammeÂ :\n\nNous faisons un cercle et nous nous posons tra
 nquillement, grÃ¢ce Ã  une mÃ©ditation guidÃ©e. (facile et accessible 
 mÃªme pour les novices)\n\nLecture et dÃ©couverte des Ã©nergies spÃ©ci
 fiques de la Nouvelle Lune\n\nBilan des rÃ©alisations et prises de con
 science depuis la derniÃ¨re Nouvelle LuneÂ  et clarification des inten
 tions qui en dÃ©coulent.\n\nTour de cercle afin que chacun puisse Ã©me
 ttre Ã  haute voix son intention pour cette nouvelle pÃ©riode (chaque 
 participante donne ses intentions, fait ses commandes Ã  lâ€™Univers, 
 dÃ©clare ce quâ€™elle souhaite voir se manifester dans son existence.)
 \n\nRetour et tirage de carte\n\nVisualisation/relaxation afin dâ€™anc
 rer en nous et dans lâ€™univers nos souhaits et nourrir la manifestati
 on des intentions.\n\n\nLes jours de nouvelle lune Ã  21 h. durÃ©e dâ€
 ™environ 2 h\nProchaine datesÂ Â  7 avril, 6 mai, 5 juin\nTarifÂ : 20â
 ‚¬\nÂ Centre Sakura Muret\nInscription nÃ©cessaire au\n06 08 30 81 15\
 n\nPour plus d'information, aller sur https://epanews.fr/events/atelie
 r-nouvelle-lune
DTSTART;TZID=Europe/Paris:20160407T210000
DTEND;TZID=Europe/Paris:20160407T230000
CATEGORIES:31
LOCATION:Muret, Centre Sakura
WEBSITE:
URL:
CONTACT:
ORGANIZER;CN="Sandrine - LumiÃ¨re de femmes":https://epanews.fr/profil
 e/SandrinePedagoguedeletre
ATTACH;FMTTYPE="image/jpeg":http://storage.ning.com/topology/rest/1.0/
 file/get/1663539067?profile=original
ATTENDEE;ROLE=REQ-PARTICIPANT;PARTSTAT=ACCEPTED;RSVP=TRUE;CN="Sandrine
  - LumiÃ¨re de femmes":https://epanews.fr/profile/SandrinePedagoguedel
 etre
END:VEVENT
END:VCALENDAR
