BEGIN:VCALENDAR
PRODID:NingEventWidget-v1
VERSION:2.0
METHOD:PUBLISH
BEGIN:VTIMEZONE
TZID:Europe/Paris
X-LIC-LOCATION:Europe/Paris
BEGIN:DAYLIGHT
TZOFFSETFROM:+0100
TZOFFSETTO:+0200
TZNAME:CEST
DTSTART:19700329T020000
RRULE:FREQ=YEARLY;BYMONTH=3;BYDAY=-1SU
END:DAYLIGHT
BEGIN:STANDARD
TZOFFSETFROM:+0200
TZOFFSETTO:+0100
TZNAME:CET
DTSTART:19701025T030000
RRULE:FREQ=YEARLY;BYMONTH=10;BYDAY=-1SU
END:STANDARD
END:VTIMEZONE
BEGIN:VEVENT
UID:2485226:Event:1045279
DTSTAMP:20260423T012500Z
SUMMARY:Atelier énergétique Niv2 \"cryptes cristalline de guérison\
 "
DESCRIPTION:GAÏA - La source d'énergie.fr vous propose ses ateliers 
 2013\nAtelier énergétique Niv2 \"crypte cristalline de guérison\"  
 La puissance du cristal au niveau énergétique est reconnu depuis des
  millénaires, nous vous proposons d'expérimenter les cryptes cristal
 line de guérison. Comment se connecter à l'énergie source et procé
 der à la reprogrammation cellulaire, retrouver la cause originelle du
  mal être et activer le pouvoir de l'auto-guérison. Vous serrez acco
 mpagné et guidé tout au long de cette technique d'énergie vibratoir
 e.\nParticipation à l'atelier 25€/personne\nInscription sur : http:
 //www.lasourcedenergie.fr/contact/formulaire-d-inscription/ Renseignem
 ents sur : http://www.lasourcedenergie.fr/contact/demande-de-renseigne
 ments/\n\nPour plus d'information, aller sur https://epanews.fr/events
 /atelier-nerg-tique-niv2-cryptes-cristalline-de-gu-rison
DTSTART;TZID=Europe/Paris:20130112T143000
DTEND;TZID=Europe/Paris:20130112T180000
CATEGORIES:30, 34, 84, 13
LOCATION:Centre : \"GAÏA - La source d'énergie .fr\"
WEBSITE:http://www.lasourcedenergie.fr
URL:http://www.lasourcedenergie.fr
CONTACT:06.29.50.42.53
ORGANIZER:Michel, Jean-Pierre, Patrick
ATTACH;FMTTYPE="image/jpeg":http://storage.ning.com/topology/rest/1.0/
 file/get/1662708582?profile=original
ATTENDEE;ROLE=REQ-PARTICIPANT;PARTSTAT=ACCEPTED;RSVP=TRUE;CN=Patrick:h
 ttps://epanews.fr/profile/lasourcedenergie
END:VEVENT
END:VCALENDAR
