BEGIN:VCALENDAR
PRODID:NingEventWidget-v1
VERSION:2.0
METHOD:PUBLISH
BEGIN:VTIMEZONE
TZID:Europe/Paris
X-LIC-LOCATION:Europe/Paris
BEGIN:DAYLIGHT
TZOFFSETFROM:+0100
TZOFFSETTO:+0200
TZNAME:CEST
DTSTART:19700329T020000
RRULE:FREQ=YEARLY;BYMONTH=3;BYDAY=-1SU
END:DAYLIGHT
BEGIN:STANDARD
TZOFFSETFROM:+0200
TZOFFSETTO:+0100
TZNAME:CET
DTSTART:19701025T030000
RRULE:FREQ=YEARLY;BYMONTH=10;BYDAY=-1SU
END:STANDARD
END:VTIMEZONE
BEGIN:VEVENT
UID:2485226:Event:1047700
DTSTAMP:20260421T224034Z
SUMMARY:Atelier énergétique avec les cristaux
DESCRIPTION:GAÏA - La source d'énergie.fr vous propose ses ateliers 
 2013  La puissance du cristal au niveau énergétique est reconnu depu
 is des millénaires, nous vous proposons d'expérimenter les cryptes c
 ristalline. Vous pourrez découvrir les bienfaits de cette bulle éner
 gétique et observer les sentiments de calme, de joie, de paix et de c
 roissance jaillir des profondeurs de votre intérieur. Vous serrez acc
 ompagné et guidé par 2 praticiens expert dans cette technique d'éne
 rgie vibratoire qui peut changer votre vie en douceur. Technique éner
 gétique enseignée par Patrick DROUOT.  Participation à l'atelier 30
 €/personne (tarif découverte 10€)  Inscription sur : http://www.l
 asourcedenergie.fr/contact/formulaire-d-inscription/ Renseignements su
 r : http://www.lasourcedenergie.fr/contact/demande-de-renseignements/\
 n\nPour plus d'information, aller sur https://epanews.fr/events/atelie
 r-nerg-tique-avec-les-cristaux-7
DTSTART;TZID=Europe/Paris:20130209T140000
DTEND;TZID=Europe/Paris:20130209T180000
CATEGORIES:30, 84
LOCATION:Sablet
WEBSITE:http://www.lasourcedenergie.fr/
URL:http://www.lasourcedenergie.fr/
CONTACT:06.29.50.42.53
ORGANIZER:Lora & Patrick
ATTACH;FMTTYPE="image/jpeg":http://storage.ning.com/topology/rest/1.0/
 file/get/1662708799?profile=original
ATTENDEE;ROLE=REQ-PARTICIPANT;PARTSTAT=ACCEPTED;RSVP=TRUE;CN=Patrick:h
 ttps://epanews.fr/profile/lasourcedenergie
END:VEVENT
END:VCALENDAR
