BEGIN:VCALENDAR
PRODID:NingEventWidget-v1
VERSION:2.0
METHOD:PUBLISH
BEGIN:VTIMEZONE
TZID:Europe/Paris
X-LIC-LOCATION:Europe/Paris
BEGIN:DAYLIGHT
TZOFFSETFROM:+0100
TZOFFSETTO:+0200
TZNAME:CEST
DTSTART:19700329T020000
RRULE:FREQ=YEARLY;BYMONTH=3;BYDAY=-1SU
END:DAYLIGHT
BEGIN:STANDARD
TZOFFSETFROM:+0200
TZOFFSETTO:+0100
TZNAME:CET
DTSTART:19701025T030000
RRULE:FREQ=YEARLY;BYMONTH=10;BYDAY=-1SU
END:STANDARD
END:VTIMEZONE
BEGIN:VEVENT
UID:2485226:Event:1845197
DTSTAMP:20260422T094435Z
SUMMARY:-Atelier Naturo-Femme Ã  NÃ®mes
DESCRIPTION:Atelier Naturo-Femme Ã  NÃ®mes- le vendredi 25 avril 13h30
 /16h30 Atelier Naturo-femme Comprendre et accompagner ses passages de 
 femmes: Cycles, grossesses, mÃ©nopause, sexualitÃ© et tous les maux au
 x fÃ©minins Nous aborderons les ressources naturelles pour se soigner 
 En dÃ©couvrant les plantes, minÃ©raux, Ã©nergie, philosophie, mÃ©ditat
 ion,mÃ©decine naturelle,alimentation, Et nous rÃ©aliserons une tisane 
 appropriÃ© Ã  chacune Inscription auprÃ¨s de YaÃ«l au 06 20 34 54 99 Ã
 € bientÃ´t YaÃ«l http://lechantdesarbres.over-blog.com/\n\nPour plus d
 'information, aller sur https://epanews.fr/events/atelier-naturo-femme
 -n-mes
DTSTART;TZID=Europe/Paris:20140425T133000
DTEND;TZID=Europe/Paris:20140425T163000
CATEGORIES:30
LOCATION:nimes
WEBSITE:
URL:
CONTACT:
ORGANIZER;CN=YaÃ«l:https://epanews.fr/profile/yael
ATTACH;FMTTYPE="image/jpeg":http://storage.ning.com/topology/rest/1.0/
 file/get/1663096792?profile=original
ATTENDEE;ROLE=REQ-PARTICIPANT;PARTSTAT=ACCEPTED;RSVP=TRUE;CN=YaÃ«l:htt
 ps://epanews.fr/profile/yael
END:VEVENT
END:VCALENDAR
