BEGIN:VCALENDAR
PRODID:NingEventWidget-v1
VERSION:2.0
METHOD:PUBLISH
BEGIN:VTIMEZONE
TZID:Europe/Paris
X-LIC-LOCATION:Europe/Paris
BEGIN:DAYLIGHT
TZOFFSETFROM:+0100
TZOFFSETTO:+0200
TZNAME:CEST
DTSTART:19700329T020000
RRULE:FREQ=YEARLY;BYMONTH=3;BYDAY=-1SU
END:DAYLIGHT
BEGIN:STANDARD
TZOFFSETFROM:+0200
TZOFFSETTO:+0100
TZNAME:CET
DTSTART:19701025T030000
RRULE:FREQ=YEARLY;BYMONTH=10;BYDAY=-1SU
END:STANDARD
END:VTIMEZONE
BEGIN:VEVENT
UID:2485226:Event:2647268
DTSTAMP:20260422T071033Z
SUMMARY:Atelier n°7 Connaissance de l'être
DESCRIPTION:Atelier n°7 \"Connaissance de l'être\"Samedi 21 mai 2016
  à 9h00 à Baie MahaultApportez vos cahiers !Participation 5€\n\nPo
 ur plus d'information, aller sur https://epanews.fr/events/atelier-n-7
 -connaissance-de-l-tre
DTSTART;TZID=Europe/Paris:20160521T210000
DTEND;TZID=Europe/Paris:20160521T230000
CATEGORIES:971
LOCATION:BAIE MAHAULT
WEBSITE:http://energiedubienetre.w123.openerp-online.fr/
URL:http://energiedubienetre.w123.openerp-online.fr/
CONTACT:0690213502
ORGANIZER;CN="ASSOCIATION ENERGIE DU BIEN ETRE":https://epanews.fr/pro
 file/ASSOCIATIONENERGIEDUBIENETRE
ATTACH;FMTTYPE="image/jpeg":
ATTENDEE;ROLE=REQ-PARTICIPANT;PARTSTAT=ACCEPTED;RSVP=TRUE;CN="ASSOCIAT
 ION ENERGIE DU BIEN ETRE":https://epanews.fr/profile/ASSOCIATIONENERGI
 EDUBIENETRE
END:VEVENT
END:VCALENDAR
