BEGIN:VCALENDAR
PRODID:NingEventWidget-v1
VERSION:2.0
METHOD:PUBLISH
BEGIN:VTIMEZONE
TZID:Europe/Paris
X-LIC-LOCATION:Europe/Paris
BEGIN:DAYLIGHT
TZOFFSETFROM:+0100
TZOFFSETTO:+0200
TZNAME:CEST
DTSTART:19700329T020000
RRULE:FREQ=YEARLY;BYMONTH=3;BYDAY=-1SU
END:DAYLIGHT
BEGIN:STANDARD
TZOFFSETFROM:+0200
TZOFFSETTO:+0100
TZNAME:CET
DTSTART:19701025T030000
RRULE:FREQ=YEARLY;BYMONTH=10;BYDAY=-1SU
END:STANDARD
END:VTIMEZONE
BEGIN:VEVENT
UID:2485226:Event:764447
DTSTAMP:20260422T052814Z
SUMMARY:Atelier \"Chants mÃ©ditatifs et Bhajans\" avec C.Brame Ã  Cass
 is le Vendredi 18 Mai 2012
DESCRIPTION:Vendredi 18 Mai Ã  19h30  Vendredi 15 Juin Ã  19h30\nChant
 s mÃ©ditatifs avec Claude Brame  Villa Montvert, traverse du chÃ¢teau,
  Cassis Suivie dâ€™une collation que chacun pourra apporter Participat
 ion 10â‚¬/8â‚¬ adhÃ©rent Contact : Claude Brame - 06 60 16 25 44    \"
 Se laisser chanter, se laisser traverser par ces Vibrations sonores es
 t un baume Ã  la fois pour \"Soi m'aime\" et pour l'Univers Terre.\" \
 nIl s'agit de chanter en cercle des mantras (formules sacrÃ©es qui per
 met de lacher le mental) essentiellement en sanscrit mais aussi en tib
 Ã©tain, hÃ©breu, ou encore en franÃ§ais.  Aucune compÃ©tence vocale n'
 est demandÃ©e, vous venez avec votre voi(e)x telle qu'elle est, et cel
 le ci s'harmonisera avec l'ensemble du groupe pour finalement ne forme
 r qu'un seul Son, qu'un seul Corps.   Les mouvements corporels sont Bi
 envenus.  Suivant l'ambiance, il sera proposÃ© Ã©galement des improvis
 ations collectives et chants des voyelles.\nPrÃ©sentation  \"AprÃ¨s un
 e quinzaine d'annÃ©es d'enseignements auprÃ¨s des Maitres TibÃ©tains e
 n France, ma voie s'est Ã©largie au fil des rencontres passÃ©es sur mo
 n chemin.   C'est en me rendant Ã  Auroville (Inde) en 2005 que je pri
 s connaissance du Travail que MÃ¨re et Sri Aurobindo entreprirent dans
  leur propre MatiÃ¨re. Ce fut pour moi une sacrÃ©e rÃ©vÃ©lation.   Auj
 ourd'hui, je retrouve cette Vibration auprÃ¨s de Myriam (www.universte
 rre.com) qui m'enseigne cette transformation Cellulaire voir Atomique 
 au sein de \"mon\" propre corps depuis 2006. C'est ainsi que sont prop
 osÃ©es les chants dÃ©votionnels afin d'expÃ©rimenter cette Vibration Ã
   travers ces Mantras qu'ils soit en sanscrits, tibÃ©tains, hÃ©breux e
 t pourquoi pas en franÃ§ais.   Depuis 2009, je les partage en groupe, 
 dans la rÃ©gion oÃ¹ je vis en Paca, mais Ã©galement dans le Vaucluse, 
 en ArdÃ¨che et dans l'HÃ©rault. D'autres Partages sonores comme de l'i
 mprovisation vocale, chants des voyelles, Kototama etc... seront propo
 sÃ©s durant ces soirÃ©es suivant l'Ã©nergie de l'instant.  Dans l'Amou
 r du Partage. Claude\"\n\n\nPour plus d'information, aller sur https:/
 /epanews.fr/events/atelier-musique-chants-avec-c-brame-cassis-le-vendr
 edi-18-mai
DTSTART;TZID=Europe/Paris:20120518T193000
DTEND;TZID=Europe/Paris:20120518T213000
CATEGORIES:13, 83
LOCATION:Cassis
WEBSITE:http://associationlesnouveauxmondes.com/
URL:http://associationlesnouveauxmondes.com/
CONTACT:06 64 41 57 79
ORGANIZER;CN="Association Les Nouveaux Mondes":https://epanews.fr/prof
 ile/AssociationLesNouveauxMondes
ATTACH;FMTTYPE="image/jpeg":http://storage.ning.com/topology/rest/1.0/
 file/get/1662591575?profile=original
ATTENDEE;ROLE=REQ-PARTICIPANT;PARTSTAT=ACCEPTED;RSVP=TRUE;CN="Associat
 ion Les Nouveaux Mondes":https://epanews.fr/profile/AssociationLesNouv
 eauxMondes
ATTENDEE;ROLE=REQ-PARTICIPANT;PARTSTAT=TENTATIVE;RSVP=TRUE;CN="Mike Fr
 anceschi":https://epanews.fr/profile/MikeFranceschi
ATTENDEE;ROLE=REQ-PARTICIPANT;PARTSTAT=TENTATIVE;RSVP=TRUE;CN=caronatu
 ro:https://epanews.fr/profile/caronaturo
END:VEVENT
END:VCALENDAR
