BEGIN:VCALENDAR
PRODID:NingEventWidget-v1
VERSION:2.0
METHOD:PUBLISH
BEGIN:VTIMEZONE
TZID:Europe/Paris
X-LIC-LOCATION:Europe/Paris
BEGIN:DAYLIGHT
TZOFFSETFROM:+0100
TZOFFSETTO:+0200
TZNAME:CEST
DTSTART:19700329T020000
RRULE:FREQ=YEARLY;BYMONTH=3;BYDAY=-1SU
END:DAYLIGHT
BEGIN:STANDARD
TZOFFSETFROM:+0200
TZOFFSETTO:+0100
TZNAME:CET
DTSTART:19701025T030000
RRULE:FREQ=YEARLY;BYMONTH=10;BYDAY=-1SU
END:STANDARD
END:VTIMEZONE
BEGIN:VEVENT
UID:2485226:Event:1859541
DTSTAMP:20260422T184029Z
SUMMARY:Atelier Moxibustion
DESCRIPTION:Un atelier pour découvrir les techniques ancestrales d'ut
 ilisation de la chaleur pour disperser des pathologies anciennes et pr
 ofondes\n\nPour plus d'information, aller sur https://epanews.fr/event
 s/atelier-moxibustion
DTSTART;TZID=Europe/Paris:20140403T100000
DTEND;TZID=Europe/Paris:20140403T120000
CATEGORIES:83
LOCATION:La Maison du Mieux-être , avenue Berthelot , les espaluns 3,
  83160 LA Valette du Var
WEBSITE:
URL:
CONTACT:
ORGANIZER;CN=phildenans:https://epanews.fr/profile/phildenans
ATTACH;FMTTYPE="image/jpeg":
ATTENDEE;ROLE=REQ-PARTICIPANT;PARTSTAT=ACCEPTED;RSVP=TRUE;CN=phildenan
 s:https://epanews.fr/profile/phildenans
END:VEVENT
END:VCALENDAR
