BEGIN:VCALENDAR
PRODID:NingEventWidget-v1
VERSION:2.0
METHOD:PUBLISH
BEGIN:VTIMEZONE
TZID:Europe/Paris
X-LIC-LOCATION:Europe/Paris
BEGIN:DAYLIGHT
TZOFFSETFROM:+0100
TZOFFSETTO:+0200
TZNAME:CEST
DTSTART:19700329T020000
RRULE:FREQ=YEARLY;BYMONTH=3;BYDAY=-1SU
END:DAYLIGHT
BEGIN:STANDARD
TZOFFSETFROM:+0200
TZOFFSETTO:+0100
TZNAME:CET
DTSTART:19701025T030000
RRULE:FREQ=YEARLY;BYMONTH=10;BYDAY=-1SU
END:STANDARD
END:VTIMEZONE
BEGIN:VEVENT
UID:2485226:Event:555718
DTSTAMP:20260422T222616Z
SUMMARY:Atelier \"Mieux vivre ses émotions\"
DESCRIPTION:Comment, sans chercher à \"contrôler\" ses émotions, il
  est possible de les transformer en profondeur, pour vivre sa vie plus
  sereinement...\n \nPour qui ? Pour quoi faire ?\n> Vous subissez sou
 vent vos émotions, plus que vous n'en êtes le maître ? Vos émotion
 s prennent le dessus, vous \"débordent\", et vous aimeriez savoir com
 ment reprendre le gouvernail du bateau ?\n> Vous cherchez des outils s
 imples, qui répondent au BON SENS, qui fonctionnent réellement, pour
  vous en sortir ?\n> Vous avez vraiment envie d'avancer sur votre chem
 in, et êtes prêt à vous impliquer dans ce changement ?\nCette forma
 tion, accessible à tous, peut répondre à vos attentes.\nA quel tari
 f et comment réserver ?\nAtelier d'une demi-journée : 45€.\nPour v
 alider votre inscription, un chèque de réservation (non-encaissé) o
 u des arrhes par carte bancaire (remboursables), d'un montant de 25€
 , sont demandées.\n \nTarif promotionnel de 35€ :\n> > si vous ré
 glez la totalité de l'atelier plus de 30 jours avant le début de l'a
 telier (dans ce cas votre inscription peut être reportée -au moins 1
 5 jours avant-, mais pas annulée)\n> ou si vous venez à deux personn
 es ou plus (tarif par personne). Contactez-moi directement dans ce cas
 .\n\nPour plus d'information, aller sur https://epanews.fr/events/atel
 ier-mieux-vivre-ses-motions
DTSTART;TZID=Europe/Paris:20111104T143000
DTEND;TZID=Europe/Paris:20111104T173000
CATEGORIES:69
LOCATION:Lyon
WEBSITE:http://www.devenirsoi.com/formation_gestion_des_emotions.html
URL:http://www.devenirsoi.com/formation_gestion_des_emotions.html
CONTACT:06 48 38 80 78
ORGANIZER;CN="Enguerrand DE CHRISTEN":https://epanews.fr/profile/Engue
 rrandDECHRISTEN
ATTACH;FMTTYPE="image/jpeg":http://storage.ning.com/topology/rest/1.0/
 file/get/1662467043?profile=original
ATTENDEE;ROLE=REQ-PARTICIPANT;PARTSTAT=ACCEPTED;RSVP=TRUE;CN="Enguerra
 nd DE CHRISTEN":https://epanews.fr/profile/EnguerrandDECHRISTEN
END:VEVENT
END:VCALENDAR
