BEGIN:VCALENDAR
PRODID:NingEventWidget-v1
VERSION:2.0
METHOD:PUBLISH
BEGIN:VTIMEZONE
TZID:Europe/Paris
X-LIC-LOCATION:Europe/Paris
BEGIN:DAYLIGHT
TZOFFSETFROM:+0100
TZOFFSETTO:+0200
TZNAME:CEST
DTSTART:19700329T020000
RRULE:FREQ=YEARLY;BYMONTH=3;BYDAY=-1SU
END:DAYLIGHT
BEGIN:STANDARD
TZOFFSETFROM:+0200
TZOFFSETTO:+0100
TZNAME:CET
DTSTART:19701025T030000
RRULE:FREQ=YEARLY;BYMONTH=10;BYDAY=-1SU
END:STANDARD
END:VTIMEZONE
BEGIN:VEVENT
UID:2485226:Event:172459
DTSTAMP:20260419T162802Z
SUMMARY:Atelier Massage Corps Ã‰motion Parole - 13006
DESCRIPTION:Ce dimanche 19 dÃ©cembre nous proposons une journÃ©e spÃ©c
 iale dÃ©butant pour tous ceux et celles qui souhaitent dÃ©couvrir, ava
 nt la nouvelle annÃ©e, une autre faÃ§on d'Ãªtre Ã  soi, Ã  l'autre.\nD
 ans un contexte propice Ã  la dÃ©tente, les ateliers que nous proposon
 s sâ€™adressent Ã  vous qui :\n\nressentez le besoin de retrouver, acq
 uÃ©rir ou dÃ©velopper le sens et le plaisir du toucher respectueux\nav
 ez envie d'apprendre Ã  devenir autonome pour vous dÃ©tendre\navez Ã  
 coeur de se vous re-connecter avec votre corps pour vous sentir unifiÃ
 ©(e)\ndÃ©sirez retrouver un Ã©quilibre physique et psychique\nrecherch
 ez une formation ou un complÃ©ment de formation (Ã©ducateurs, infirmie
 rs, kinÃ©sithÃ©rapeutes, psycho-thÃ©rapeutes, aide-soignants, esthÃ©ti
 ciennes, etc.)\n\nAinsi, nous vous proposons, en petit groupe, dans un
  cadre sÃ©curisant :\n\n\ndâ€™aller Ã  la rencontre de vous-mÃªmeÂ et 
 des autres par le Massage Corps Ã‰motion Parole, de trouver le plaisir
  de la dÃ©tente\nd'apprendre Ã  donner et Ã  recevoir pour ensuiteÂ pa
 rtager avec vos proches des moments de dÃ©tente privilÃ©giÃ©e, de resp
 iration profonde, de ressourcement\nd'Ã©prouver, par le ressenti, leÂ 
 sentiment dâ€™exister pleinement,Â dâ€™une plus grande confiance, dâ€™
 une plus gande estime de soi\nde trouver une occasion deÂ travail d'Ã©
 volution personnelle\n\n\n\n\n\n\nJournÃ©e Massage Corps â€¢ Ã‰motion 
 â€¢ ParoleDimanche 19 dÃ©cembre 2010 Ã  Marseille 13006.\n9h30 Ã  18h3
 0.\nPlus d'infos surÂ www.les13portes.comVenez DÃ‰COUVRIR un vÃ©ritabl
 e ART DU DIALOGUE NON-VERBAL.Ne ratez pas cette journÃ©e inÃ©dite. Ven
 ez seul(e) ou Ã  plusieurs, invitez vos ami(e)s et partager ce moment 
 de dÃ©couverte corporelle.JournÃ©e animÃ©e par des formateurs professi
 onnels, membres FFMBE & FF2S.RÃ‰SERVATION AU : 04 91 48 29 91\nTARIF D
 E LA JOURNÃ‰E 100 â‚¬\nTARIF Ã‰PANEWS 75 â‚¬\n\nPour plus d'informatio
 n, aller sur https://epanews.fr/events/atelier-massage-corps-emotion-1
DTSTART;TZID=Europe/Paris:20101219T093000
DTEND;TZID=Europe/Paris:20101219T183000
CATEGORIES:13
LOCATION:MARSEILLE
WEBSITE:http://www.les13portes.com
URL:http://www.les13portes.com
CONTACT:04 91 482 991 et 06 11 89 20 34
ORGANIZER;CN=VERGER:https://epanews.fr/profile/VERGER
ATTACH;FMTTYPE="image/jpeg":http://storage.ning.com/topology/rest/1.0/
 file/get/1662368590?profile=original
ATTENDEE;ROLE=REQ-PARTICIPANT;PARTSTAT=ACCEPTED;RSVP=TRUE;CN=VERGER:ht
 tps://epanews.fr/profile/VERGER
END:VEVENT
END:VCALENDAR
