BEGIN:VCALENDAR
PRODID:NingEventWidget-v1
VERSION:2.0
METHOD:PUBLISH
BEGIN:VTIMEZONE
TZID:Europe/Paris
X-LIC-LOCATION:Europe/Paris
BEGIN:DAYLIGHT
TZOFFSETFROM:+0100
TZOFFSETTO:+0200
TZNAME:CEST
DTSTART:19700329T020000
RRULE:FREQ=YEARLY;BYMONTH=3;BYDAY=-1SU
END:DAYLIGHT
BEGIN:STANDARD
TZOFFSETFROM:+0200
TZOFFSETTO:+0100
TZNAME:CET
DTSTART:19701025T030000
RRULE:FREQ=YEARLY;BYMONTH=10;BYDAY=-1SU
END:STANDARD
END:VTIMEZONE
BEGIN:VEVENT
UID:2485226:Event:3125969
DTSTAMP:20260424T063633Z
SUMMARY:Atelier massage 50% lomi lomi 50%ayurvÃ©dique
DESCRIPTION:L'associationÂ Lamibonheur vous propose un atelier massage
  en journÃ©e avec Serge:\nLe massage Lomi Lomi - qu'est-ce que c'est ?
 \nC'est un magnifique massage complet du corps et du visage inspire de
  la tradition chamanique hawaÃ¯enne.\nUn massage venu des Ã®les, bercÃ
 © par la houle d'un ocÃ©an infini et vivant comme lave en Ã©bullition.
  Il dÃ©tend et vivifie, purifie et nourrit un rituel de renouveau.\nÂ 
 Â  LeÂ  massage AyurvÃ©diqueÂ : quâ€™est-ce que câ€™estÂ ? Â  Â  Â  Â 
  Â  Â  Â  Â  Â  Â  Â  Â  Â  Â  Â  Â \nLe principe du massage est basÃ©
  sur l'Ã©quilibre entre l'air (le Vat dÃ©signant les hormones et les n
 erfs), l'eau (le Kaph dÃ©signant tout ce qui est liquide dans le corps
 ) et le feu (le Pitt dÃ©signant les organes digestifs et les enzymes).
  C'est l'harmonie de ces 3 Ã©lÃ©ments qui apporte le bien-Ãªtre intÃ©r
 ieur.\nÂ \n-Â Â Â Â Â Â Â Â Â Â Â Â Â Pour tous, rendez-vous dÃ¨s 9H30
  pour dÃ©marrer notre atelier Ã  10H30.\n-Â Â Â Â Â Â Â Â Â Â 10H30 â€
 “ 12H00 atelier aller.\n-Â Â Â Â Â Â Â Â Â Â 12H00 â€“ 13H30 repas/buf
 fet en partage, merci de prÃ©voir lÃ©ger et dÃ©jÃ  cuisinÃ©. Boissons 
 et couvert fournis par lâ€™association.\n-Â Â Â Â Â Â Â Â Â Â 13H30 â€
 “ 15H00 atelierÂ retour.\n-Â Â Â Â Â Â Â Â Â Â 15H00â€¦.. ThÃ©, cafÃ©,
  Ã©change, partage, souhaits, idÃ©es, attentes, pliage des tables, ran
 gement, nettoyage salle et cuisine, embrassades et Ã  trÃ¨s, trÃ¨s bie
 ntÃ´t.\nÂ \nParticipationÂ :\nCet Â atelier nâ€™est pas Ã  but lucrati
 f. Mais soucieux de rÃ©pondre au mieux Ã  vos attentes et maintenir ce
  lieu Â«Â privilÃ©giÃ©Â Â», propre et conformeÂ : tout en vous laissan
 t le libre choix de votre montant de participation, il est souhaitÃ© q
 ue celui-ci ne soit pas infÃ©rieur Ã  25â‚¬ par participant.\nÂ \nLâ€™
 adresseÂ :Â 20 rue la Martinique 83200 Toulon\nÂ \nPour mÃ©moireÂ :\n*
 Je vous rappelle que le protocole de massage proposÃ© Â«Â ayurvÃ©dique
  +lomi lomiÂ Â» ne sâ€™apparente Ã  aucune pratique mÃ©dicale ni param
 Ã©dicale occidentale.\nIl ne sâ€™agit pas dâ€™un massage thÃ©rapeutiqu
 e mais dâ€™une relaxation.\nÂ \nCoeurdialementÂ \nÂ \nÂ \nPetit rappel
 Â : les ateliers proposÃ©s par lâ€™association Lamibonheur sont des mÃ
 ©thodes de bien Ãªtre qui ne peuventÂ  remplacer votre mÃ©decin traita
 nt ni ses prescriptions. Toute participation Ã  cet atelier est sous l
 e couvert de votre assurance responsabilitÃ© Civile mÃªme si nous somm
 es assurÃ©s pour les adhÃ©rents Ã  jours de leur cotisation.\nÂ \n\nPo
 ur plus d'information, aller sur https://epanews.fr/events/atelier-mas
 sage-50-lomi-lomi-50-ayurv-dique
DTSTART;TZID=Europe/Paris:20211215T093000
DTEND;TZID=Europe/Paris:20211215T170000
CATEGORIES:83
LOCATION:toulon ouest
WEBSITE:
URL:
CONTACT:06691912800
ORGANIZER;CN="Patrick MALLET":https://epanews.fr/profile/mallet
ATTACH;FMTTYPE="image/jpeg":https://storage.ning.com/topology/rest/1.0
 /file/get/9828587282?profile=original
ATTENDEE;ROLE=REQ-PARTICIPANT;PARTSTAT=ACCEPTED;RSVP=TRUE;CN="Serge Bi
 enÃªtre":https://epanews.fr/profile/SergeBienetre
ATTENDEE;ROLE=REQ-PARTICIPANT;PARTSTAT=ACCEPTED;RSVP=TRUE;CN="Patrick 
 MALLET":https://epanews.fr/profile/mallet
END:VEVENT
END:VCALENDAR
