BEGIN:VCALENDAR
PRODID:NingEventWidget-v1
VERSION:2.0
METHOD:PUBLISH
BEGIN:VTIMEZONE
TZID:Europe/Paris
X-LIC-LOCATION:Europe/Paris
BEGIN:DAYLIGHT
TZOFFSETFROM:+0100
TZOFFSETTO:+0200
TZNAME:CEST
DTSTART:19700329T020000
RRULE:FREQ=YEARLY;BYMONTH=3;BYDAY=-1SU
END:DAYLIGHT
BEGIN:STANDARD
TZOFFSETFROM:+0200
TZOFFSETTO:+0100
TZNAME:CET
DTSTART:19701025T030000
RRULE:FREQ=YEARLY;BYMONTH=10;BYDAY=-1SU
END:STANDARD
END:VTIMEZONE
BEGIN:VEVENT
UID:2485226:Event:61395
DTSTAMP:20260419T211137Z
SUMMARY:ATELIER: Marche & Pratique Corporelle dans la Nature !
DESCRIPTION:\"La Marche Autrement !\"\nc’est prendre le temps d’OS
 ERVER, d’ACCUEILLIR, de SENTIR, d’EXPERIMENTER, d’EXPRIMER....\n
 \nC’est une découverte des PLAISIRS de la Marche avec une alternanc
 e de pratiques corporelles et respiratoires, de mise en situation à l
 ’extérieur comme à l’intérieur…en ville comme au cœur de la 
 Nature..\n\nVéritable EXPERIENCE SENSORIELLE de rencontre avec SOI av
 ec des VALEURS de :\nRESPECT\nD’ECOUTE\nD’INTEGRITE\nDe PARTAGE\nD
 ’AUTHENTICITE\n\nTarif : Atelier : 12 €\nPour les non adhérents :
  Adhésion annuelle à l'Association Pas Sage de 10€ par an donnant 
 droit à participer à toutes les activités.\nRenseignements, Inscrip
 tion : : 06 81 09 15 78 -\nIsabelle.gaubert@lamarche-autrement.com\n\n
 Pour plus d'information, aller sur https://epanews.fr/events/atelier-m
 arche-pratique
DTSTART;TZID=Europe/Paris:20100529T133000
DTEND;TZID=Europe/Paris:20100529T170000
CATEGORIES:11
LOCATION:Entre étang et pinéde
WEBSITE:http://http//:lamarche-autrement.com
URL:http://http//:lamarche-autrement.com
CONTACT:06 81 09 15 78
ORGANIZER;CN="GAUBERT Isabelle":https://epanews.fr/profile/GAUBERTIsab
 elle
ATTACH;FMTTYPE="image/jpeg":http://storage.ning.com/topology/rest/1.0/
 file/get/1662301399?profile=original
ATTENDEE;ROLE=REQ-PARTICIPANT;PARTSTAT=ACCEPTED;RSVP=TRUE;CN="GAUBERT 
 Isabelle":https://epanews.fr/profile/GAUBERTIsabelle
ATTENDEE;ROLE=REQ-PARTICIPANT;PARTSTAT=TENTATIVE;RSVP=TRUE;CN="agnes b
 udin":https://epanews.fr/profile/agnesbudin
ATTENDEE;ROLE=REQ-PARTICIPANT;PARTSTAT=TENTATIVE;RSVP=TRUE;CN=Ojas:htt
 ps://epanews.fr/profile/Ojas
ATTENDEE;ROLE=REQ-PARTICIPANT;PARTSTAT=TENTATIVE;RSVP=TRUE;CN=mumucast
 agnette:https://epanews.fr/profile/mumucastagnette
END:VEVENT
END:VCALENDAR
