BEGIN:VCALENDAR
PRODID:NingEventWidget-v1
VERSION:2.0
METHOD:PUBLISH
BEGIN:VTIMEZONE
TZID:Europe/Paris
X-LIC-LOCATION:Europe/Paris
BEGIN:DAYLIGHT
TZOFFSETFROM:+0100
TZOFFSETTO:+0200
TZNAME:CEST
DTSTART:19700329T020000
RRULE:FREQ=YEARLY;BYMONTH=3;BYDAY=-1SU
END:DAYLIGHT
BEGIN:STANDARD
TZOFFSETFROM:+0200
TZOFFSETTO:+0100
TZNAME:CET
DTSTART:19701025T030000
RRULE:FREQ=YEARLY;BYMONTH=10;BYDAY=-1SU
END:STANDARD
END:VTIMEZONE
BEGIN:VEVENT
UID:2485226:Event:701663
DTSTAMP:20260423T123820Z
SUMMARY:Atelier-Mandala de la Femme Sacrée
DESCRIPTION:Bonjour à toutes et tous,\nDe manière exceptionnelle, l'
 atelier sur l'art des Kolams a été reporté à une date ultérieure.
  Pour celles et ceux qui souhaiteraient s'initier à cet art éphémè
 re, c'est encore possible !\nEn attendant, j'invite et appelle les fem
 mes à venir à l'atelier suivant :\nDIMANCHE 26 Février à 14h30 Ate
 lier-Mandala de la Femme Sacrée\nPar des mandalas spécifiques et leu
 rs symboles sacrés féminins, explorez et découvrez pétale après p
 étale, la Sacrée Femme qui danse en vous !\nThème : Kali  Qui est 
 donc Kali, une des divinités de l'Inde souvent représentée en état
  de transe parée d'un collier de têtes de mort ?\nArchétype fémini
 n à l'allure \"effrayante\", découvrez Kali sous son vrai visage et 
 développez ainsi une plus grande conscience de votre féminité.\nLe 
 Regard du Cygne 210, rue de belleville 75020 Paris Métro : Télégrap
 he ou Place des Fêtes Code : me demander\nInformations complémentair
 es : http://aucoeurdumandala.unblog.fr/ateliers-mandalas/\nCreativeme
 nt\nSandrine Bataillard Syama 06 72 96 79 83 syama.mandala@yahoo.fr ht
 tp://aucoeurdumandala.unblog.fr\n\nPour plus d'information, aller sur 
 https://epanews.fr/events/atelier-mandala-de-la-femme-sacr-e
DTSTART;TZID=Europe/Paris:20120226T143000
DTEND;TZID=Europe/Paris:20120226T173000
CATEGORIES:75
LOCATION:PARIS
WEBSITE:http://aucoeurdumandala.unblog.fr
URL:http://aucoeurdumandala.unblog.fr
CONTACT:
ORGANIZER;CN=SYAMA:https://epanews.fr/profile/SYAMA
ATTACH;FMTTYPE="image/jpeg":http://storage.ning.com/topology/rest/1.0/
 file/get/1662562330?profile=original
ATTENDEE;ROLE=REQ-PARTICIPANT;PARTSTAT=ACCEPTED;RSVP=TRUE;CN=SYAMA:htt
 ps://epanews.fr/profile/SYAMA
END:VEVENT
END:VCALENDAR
