BEGIN:VCALENDAR
PRODID:NingEventWidget-v1
VERSION:2.0
METHOD:PUBLISH
BEGIN:VTIMEZONE
TZID:Europe/Paris
X-LIC-LOCATION:Europe/Paris
BEGIN:DAYLIGHT
TZOFFSETFROM:+0100
TZOFFSETTO:+0200
TZNAME:CEST
DTSTART:19700329T020000
RRULE:FREQ=YEARLY;BYMONTH=3;BYDAY=-1SU
END:DAYLIGHT
BEGIN:STANDARD
TZOFFSETFROM:+0200
TZOFFSETTO:+0100
TZNAME:CET
DTSTART:19701025T030000
RRULE:FREQ=YEARLY;BYMONTH=10;BYDAY=-1SU
END:STANDARD
END:VTIMEZONE
BEGIN:VEVENT
UID:2485226:Event:1845288
DTSTAMP:20260421T211029Z
SUMMARY:Atelier Mandala créatif et évolutif
DESCRIPTION:Un moment de pose, de détente autour de la créativité e
 t du mandala... ce peut-être un très beau cadeau que vous pouvez vou
 s offrir!\nL'atelier mandala créatif aura lieu le :\nDimanche 30 mars
  de 14h à 17h à Paris 15ème.\nIl aura pour thème le Printemps, sym
 bole de la re-naissance, du re-nouveau dans sa vie professionnelle et 
 personnelle...\nPour en savoir plus, je vous invite à visiter le site
  internet de Tout Un Art : www.toutunart.org. Vous y découvrirez plei
 n d'information ainsi que les renseignements pratiques !\nA très bien
 tôt !\n\nPour plus d'information, aller sur https://epanews.fr/events
 /atelier-mandala-cr-atif-et-volutif-3
DTSTART;TZID=Europe/Paris:20140330T140000
DTEND;TZID=Europe/Paris:20140330T170000
CATEGORIES:75
LOCATION:Paris 15ème, Métro Charles Michels
WEBSITE:http://www.toutunart.org
URL:http://www.toutunart.org
CONTACT:06 10 88 68 22
ORGANIZER;CN="Brigitte Schabaillie":https://epanews.fr/profile/SCHABAI
 LLIE
ATTACH;FMTTYPE="image/jpeg":http://storage.ning.com/topology/rest/1.0/
 file/get/1663095143?profile=original
ATTENDEE;ROLE=REQ-PARTICIPANT;PARTSTAT=ACCEPTED;RSVP=TRUE;CN="Brigitte
  Schabaillie":https://epanews.fr/profile/SCHABAILLIE
END:VEVENT
END:VCALENDAR
