BEGIN:VCALENDAR
PRODID:NingEventWidget-v1
VERSION:2.0
METHOD:PUBLISH
BEGIN:VTIMEZONE
TZID:Europe/Paris
X-LIC-LOCATION:Europe/Paris
BEGIN:DAYLIGHT
TZOFFSETFROM:+0100
TZOFFSETTO:+0200
TZNAME:CEST
DTSTART:19700329T020000
RRULE:FREQ=YEARLY;BYMONTH=3;BYDAY=-1SU
END:DAYLIGHT
BEGIN:STANDARD
TZOFFSETFROM:+0200
TZOFFSETTO:+0100
TZNAME:CET
DTSTART:19701025T030000
RRULE:FREQ=YEARLY;BYMONTH=10;BYDAY=-1SU
END:STANDARD
END:VTIMEZONE
BEGIN:VEVENT
UID:2485226:Event:1094744
DTSTAMP:20260422T235639Z
SUMMARY:Atelier Mandala - Bol chantant - Méditation
DESCRIPTION:TOUT UN ART vous souhaite une très belle année 2013 fait
 e de la magie de la vie, de rire, de joie, de tous ces moments de bonh
 eur qui font du bien au coeur !\n\n\n\nEt pour commencer l'année dans
  la joie et la bonne humeur, TOUT UN ART organise un atelier mandala c
 réatif sur la Joie de Vivre !\nQu'est-ce que la joie pour vous ? Qu'e
 st-ce qui vous met le plus en joie ? \nEn créant votre mandala de la
  joie vous vous connecterez à cette énergie de vie qui coule en vous
  et que vous laisserez exprimer librement à travers vous.\nPour ouvri
 r cet atelier, Marie-France nous transportera dans un monde merveilleu
 x grâce aux sons mélodieux du bol chantant. Elle nous guidera ensuit
 e par une petite méditation qui se terminera par l'harmonisation du c
 oeur. Ce beau moment, offert par Marie-France, vous aidera à vous cen
 trer : condition idéale pour la réalisation de votre mandala.\nQuelq
 ues détails pratiques !\nDate : Samedi 12 janvier 2013\nDéroulé :
 de 14h à 15h : méditation et bol chantant avec Marie-France,\nde 15h
  à 18h : Création de votre propre mandala avec Brigitte\nLieu : Gif
  sur Yvette (proche gare RER B)\nTarif : 22 € pour les adhérents -
  26 € pour les non-adhérents (matériel fourni).\nInscription : en
  appelant le 06 10 88 68 22 ou en envoyant un email à : toutunart.as
 soc@gmail.com\nPour plus d'information sur le mandala : http://tout-u
 n-art.blogspot.fr/p/le-mandala.html\nY'a d'la joie !!\n\nPour plus d'i
 nformation, aller sur https://epanews.fr/events/atelier-mandala-bol-ch
 antant-m-ditation
DTSTART;TZID=Europe/Paris:20130112T140000
DTEND;TZID=Europe/Paris:20130112T180000
CATEGORIES:91
LOCATION:Gif sur Yvette
WEBSITE:http://tout-un-art.blogspot.com
URL:http://tout-un-art.blogspot.com
CONTACT:06 10 88 68 22
ORGANIZER;CN="Brigitte Schabaillie":https://epanews.fr/profile/SCHABAI
 LLIE
ATTACH;FMTTYPE="image/jpeg":http://storage.ning.com/topology/rest/1.0/
 file/get/1662729063?profile=original
ATTENDEE;ROLE=REQ-PARTICIPANT;PARTSTAT=ACCEPTED;RSVP=TRUE;CN="Brigitte
  Schabaillie":https://epanews.fr/profile/SCHABAILLIE
END:VEVENT
END:VCALENDAR
