BEGIN:VCALENDAR
PRODID:NingEventWidget-v1
VERSION:2.0
METHOD:PUBLISH
BEGIN:VTIMEZONE
TZID:Europe/Paris
X-LIC-LOCATION:Europe/Paris
BEGIN:DAYLIGHT
TZOFFSETFROM:+0100
TZOFFSETTO:+0200
TZNAME:CEST
DTSTART:19700329T020000
RRULE:FREQ=YEARLY;BYMONTH=3;BYDAY=-1SU
END:DAYLIGHT
BEGIN:STANDARD
TZOFFSETFROM:+0200
TZOFFSETTO:+0100
TZNAME:CET
DTSTART:19701025T030000
RRULE:FREQ=YEARLY;BYMONTH=10;BYDAY=-1SU
END:STANDARD
END:VTIMEZONE
BEGIN:VEVENT
UID:2485226:Event:764458
DTSTAMP:20260422T054022Z
SUMMARY:Atelier \"MagnÃ©tisme et RadiesthÃ©sie\" avec G.Peltier Ã  Cas
 sis le Samedi 23 Juin 2012
DESCRIPTION:Samedi 28 Avril 2012 : Atelier nÂ°1 Samedi 2 Juin 2012 : A
 telier nÂ° 2 Samedi 23 Juin 2012 : Atelier nÂ°3  de 9h Ã  18h (consult
 er le programme ci-dessous)\nVilla Montvert, traverse du chÃ¢teau, Cas
 sis 85â‚¬ la journÃ©e / 55â‚¬ la demi-journÃ©e  Apporter repas Ã  part
 ager Sur RÃ©servation Portable :Â Â Â  06 10 19 59 76Â Â Â Â et fixe :
 Â  04 94 20 90 08 Mail :Â Â  peltier.gilbert@wanadoo.fr  \" MagnÃ©tise
 ur et radiesthÃ©siste depuis 40 ans environ, installÃ© Ã  La Valette (
 VAR). Je fais des confÃ©rences un peu partout et forme des gens qui ai
 ment les deux disciplines. Depuis une dizaine d'annÃ©es, environ 500 Ã
 ©lÃ¨ves ont suivi mes ateliers Ã  diffÃ©rents endroits en France et au
  Luxembourg. Je reÃ§ois aussi des gens Ã  mon cabinet Ã  La Valette po
 ur Ã©tude et soins.\"\n\n\n\nPour plus d'information, aller sur https:
 //epanews.fr/events/atelier-magn-tisme-et-radiesth-sie-avec-g-peltier-
 cassis-le-1
DTSTART;TZID=Europe/Paris:20120623T090000
DTEND;TZID=Europe/Paris:20120623T180000
CATEGORIES:13, 83
LOCATION:Cassis
WEBSITE:http://associationlesnouveauxmondes.com/
URL:http://associationlesnouveauxmondes.com/
CONTACT:06 64 41 57 79
ORGANIZER;CN="Association Les Nouveaux Mondes":https://epanews.fr/prof
 ile/AssociationLesNouveauxMondes
ATTACH;FMTTYPE="image/jpeg":http://storage.ning.com/topology/rest/1.0/
 file/get/1662590182?profile=original
ATTENDEE;ROLE=REQ-PARTICIPANT;PARTSTAT=ACCEPTED;RSVP=TRUE;CN=corinne33
 4:https://epanews.fr/profile/corinne334
ATTENDEE;ROLE=REQ-PARTICIPANT;PARTSTAT=ACCEPTED;RSVP=TRUE;CN="Associat
 ion Les Nouveaux Mondes":https://epanews.fr/profile/AssociationLesNouv
 eauxMondes
END:VEVENT
END:VCALENDAR
