BEGIN:VCALENDAR
PRODID:NingEventWidget-v1
VERSION:2.0
METHOD:PUBLISH
BEGIN:VTIMEZONE
TZID:Europe/Paris
X-LIC-LOCATION:Europe/Paris
BEGIN:DAYLIGHT
TZOFFSETFROM:+0100
TZOFFSETTO:+0200
TZNAME:CEST
DTSTART:19700329T020000
RRULE:FREQ=YEARLY;BYMONTH=3;BYDAY=-1SU
END:DAYLIGHT
BEGIN:STANDARD
TZOFFSETFROM:+0200
TZOFFSETTO:+0100
TZNAME:CET
DTSTART:19701025T030000
RRULE:FREQ=YEARLY;BYMONTH=10;BYDAY=-1SU
END:STANDARD
END:VTIMEZONE
BEGIN:VEVENT
UID:2485226:Event:2256153
DTSTAMP:20260421T153801Z
SUMMARY:Atelier \"Méditation et Présence\" animé par Yann Coré
DESCRIPTION:Le Samedi 4 Avril 2015 de 13h30 à 17h à Paris 17 rue du 
 Javelot, métro les Olympiades (ligne 14),  tour Grenoble, escalier 1
 , interphone ZAYAN (0158890107)\n\nCet Atelier s’adresse à Tous, qu
 e vous soyez débutant ou expérimenté.  Si vous êtes débutant, les
  clés qui seront transmises vous permettront de partir sur de très b
 onnes bases et vous éviteront certains détours intérieurs inutiles.
   Si vous êtes expérimenté, ces clefs vous permettront d’approfon
 dir votre pratique quotidienne, et d’ouvrir de nouveaux espaces en v
 ous, afin d’accroitre votre précieuse présence aimante.  Présence
 , écoute, ressenti, observation, détente, sont les alliés de la mé
 ditation.  Méditer signifie simplement « être présent à ce qui es
 t ».  C’est avec Joie et simplicité que je vous transmettrai les c
 lés que j’ai acquises tout au long de mon parcours.  La veille (ven
 dredi 3 Avril de 20h à 22h) aura lieu une conférence-atelier sur le 
 même thème, si vous souhaitez venir découvrir ce que nous proposons
 , sur une plus petite plage horaire, comme introduction à l'atelier.\
 n\nContenu de l’atelier :   - Introduction : Qu’est ce que la Méd
 itation? - Transmission de clés précieuses pour faciliter l’intros
 pection. - Enseignements inspirés. - Méditations guidées. - Certain
 es pratiques seront accompagnées en musique Live!   Horaires : 13h30 
 à 17h.  Tarif: 30 euros.  Inscription nécessaire par téléphone (sm
 s) ou par mail:  jesuis999@gmail.com ou 06 24 34 44 24   Bienvenue a t
 ous!   Nous vous serions reconnaissant de bien vouloir partager l'info
 rmation avec vos amis et dans vos réseaux...   Accompagnement individ
 uel sur Paris:  Rêves éveillés, massage intuitif, Reconnexion, Soin
 s énergétiques, Accompagnement Holistique personnalisé, Accompagnem
 ent en fin de Vie,...  Tarifs: 60 euros (1h) 80 euros (1h30) 100 euros
  (2h)  WWW.CONSCIENDUCOEUR.COM  page Facebook: \"La Conscience du Coeu
 r\"  https://www.facebook.com/conscienceducoeur999\n\nPour plus d'info
 rmation, aller sur https://epanews.fr/events/atelier-m-ditation-et-pr-
 sence-anim-par-yann-cor-1
DTSTART;TZID=Europe/Paris:20150404T133000
DTEND;TZID=Europe/Paris:20150404T170000
CATEGORIES:75
LOCATION:à Paris (13ème)
WEBSITE:http://www.conscienceducoeur.com
URL:http://www.conscienceducoeur.com
CONTACT:06 24 34 44 244
ORGANIZER;CN="Conscience du Coeur":https://epanews.fr/profile/Conscien
 ceduCoeur
ATTACH;FMTTYPE="image/jpeg":http://storage.ning.com/topology/rest/1.0/
 file/get/1663345617?profile=original
ATTENDEE;ROLE=REQ-PARTICIPANT;PARTSTAT=ACCEPTED;RSVP=TRUE;CN="Conscien
 ce du Coeur":https://epanews.fr/profile/ConscienceduCoeur
END:VEVENT
END:VCALENDAR
