BEGIN:VCALENDAR
PRODID:NingEventWidget-v1
VERSION:2.0
METHOD:PUBLISH
BEGIN:VTIMEZONE
TZID:Europe/Paris
X-LIC-LOCATION:Europe/Paris
BEGIN:DAYLIGHT
TZOFFSETFROM:+0100
TZOFFSETTO:+0200
TZNAME:CEST
DTSTART:19700329T020000
RRULE:FREQ=YEARLY;BYMONTH=3;BYDAY=-1SU
END:DAYLIGHT
BEGIN:STANDARD
TZOFFSETFROM:+0200
TZOFFSETTO:+0100
TZNAME:CET
DTSTART:19701025T030000
RRULE:FREQ=YEARLY;BYMONTH=10;BYDAY=-1SU
END:STANDARD
END:VTIMEZONE
BEGIN:VEVENT
UID:2485226:Event:1051374
DTSTAMP:20260422T220536Z
SUMMARY:Atelier Méditatif   « Les Energies Cristallines »
DESCRIPTION:Atelier Méditatif   « Les Energies Cristallines »\nA
 vec Nadine-Sarah\nLa lumière cohérente est de l'énergie cristalline
  dont la vitalité forme la nature intégrale de tous les mondes et de
  toutes les réalités. Tout est cristallin. En ces temps très partic
 uliers, les énergies de mutation  qui affecte notre Planète, touche
  avant tout à sa structure cristalline. Or, nos cellules comportent a
 ussi une structure cristalline qu’il est bon de réaligner en consci
 ence et en lien avec la Terre ce qui sera proposé lors de cet atelier
 .\nTarif : 20€/17€ pour adhérents de l'Association \"l'Apprenti-
 Sage\"\n\nPour plus d'information, aller sur https://epanews.fr/events
 /atelier-m-ditatif-les-energies-cristallines
DTSTART;TZID=Europe/Paris:20121212T203000
DTEND;TZID=Europe/Paris:20121212T223000
CATEGORIES:83
LOCATION:Salle la Pépinière
WEBSITE:
URL:
CONTACT:Claire PENNA  au 06 14 25 83 79 ou claire.penna@dbmail.com
ORGANIZER;CN="Franck et Nadine Sarah Aubert":https://epanews.fr/profil
 e/FranckAUBERT
ATTACH;FMTTYPE="image/jpeg":http://storage.ning.com/topology/rest/1.0/
 file/get/1662712390?profile=original
ATTENDEE;ROLE=REQ-PARTICIPANT;PARTSTAT=ACCEPTED;RSVP=TRUE;CN="Franck e
 t Nadine Sarah Aubert":https://epanews.fr/profile/FranckAUBERT
END:VEVENT
END:VCALENDAR
