BEGIN:VCALENDAR
PRODID:NingEventWidget-v1
VERSION:2.0
METHOD:PUBLISH
BEGIN:VTIMEZONE
TZID:Europe/Paris
X-LIC-LOCATION:Europe/Paris
BEGIN:DAYLIGHT
TZOFFSETFROM:+0100
TZOFFSETTO:+0200
TZNAME:CEST
DTSTART:19700329T020000
RRULE:FREQ=YEARLY;BYMONTH=3;BYDAY=-1SU
END:DAYLIGHT
BEGIN:STANDARD
TZOFFSETFROM:+0200
TZOFFSETTO:+0100
TZNAME:CET
DTSTART:19701025T030000
RRULE:FREQ=YEARLY;BYMONTH=10;BYDAY=-1SU
END:STANDARD
END:VTIMEZONE
BEGIN:VEVENT
UID:2485226:Event:1059716
DTSTAMP:20260422T050159Z
SUMMARY:Atelier: Les huiles végétales et les huiles essentielles en 
 Ayurvéda
DESCRIPTION:Pourquoi et quelles huiles utiliser pour vos massages, e
 n cuisine, dans votre hygiène quotidienne. Quelles huiles essentielle
 s pour harmoniser les chakras, masser les marmas...\n\nPour plus d'i
 nformation, aller sur https://epanews.fr/events/atelier-les-huiles-v-g
 -tales-et-les-huiles-essentielles-en-ayurv
DTSTART;TZID=Europe/Paris:20130119T000000
DTEND;TZID=Europe/Paris:20130119T235900
CATEGORIES:69
LOCATION:JARDIN INTERIEUR
WEBSITE:http://www.wahl-ayurveda.fr
URL:http://www.wahl-ayurveda.fr
CONTACT:0688250037
ORGANIZER;CN=CLOVIS:https://epanews.fr/profile/CLOVIS898
ATTACH;FMTTYPE="image/jpeg":http://storage.ning.com/topology/rest/1.0/
 file/get/1662715079?profile=original
ATTENDEE;ROLE=REQ-PARTICIPANT;PARTSTAT=ACCEPTED;RSVP=TRUE;CN=CLOVIS:ht
 tps://epanews.fr/profile/CLOVIS898
END:VEVENT
END:VCALENDAR
