BEGIN:VCALENDAR
PRODID:NingEventWidget-v1
VERSION:2.0
METHOD:PUBLISH
BEGIN:VTIMEZONE
TZID:Europe/Paris
X-LIC-LOCATION:Europe/Paris
BEGIN:DAYLIGHT
TZOFFSETFROM:+0100
TZOFFSETTO:+0200
TZNAME:CEST
DTSTART:19700329T020000
RRULE:FREQ=YEARLY;BYMONTH=3;BYDAY=-1SU
END:DAYLIGHT
BEGIN:STANDARD
TZOFFSETFROM:+0200
TZOFFSETTO:+0100
TZNAME:CET
DTSTART:19701025T030000
RRULE:FREQ=YEARLY;BYMONTH=10;BYDAY=-1SU
END:STANDARD
END:VTIMEZONE
BEGIN:VEVENT
UID:2485226:Event:1131783
DTSTAMP:20260422T175325Z
SUMMARY:atelier la tunique de peau : l'égo spirituel
DESCRIPTION:La Tunique de Peau....le vêtement que nous endossons et q
 ui nous enserre nous privant d'aisance dans nos vibrations. et freinan
 t  notre évolution spirituelle.\nComprendre et accepter cette rencon
 tre avec nos propres enfermements sur le plan Spirituel.\nAtelier reç
 u en connection directe accompagné du SCIO INDIGO (appareil de lectur
 e des énergies en biorésonance) qui nous montre tout au long de l'at
 elier les mouvements d'énergies sur nos auras et chakras.\nAtelier de
  groupe à Prade sur Vernazobres (environ de Béziers)..Le  dimanche 
 3 Février 2013 à partir de 9h\ntoute la journée...80€\npour recev
 oir le programme,les infos et s'inscrire : espacenellybl@sfr.fr\n\nPou
 r plus d'information, aller sur https://epanews.fr/events/atelier-la-t
 unique-de-peau-l-go-spirituel-1
DTSTART;TZID=Europe/Paris:20130203T000000
DTEND;TZID=Europe/Paris:20130203T235900
CATEGORIES:34
LOCATION:Prades sur Vernazobres
WEBSITE:
URL:
CONTACT:06 06 92 37 01
ORGANIZER;CN=nelly:https://epanews.fr/profile/espacenellybl
ATTACH;FMTTYPE="image/jpeg":http://storage.ning.com/topology/rest/1.0/
 file/get/1662740237?profile=original
ATTENDEE;ROLE=REQ-PARTICIPANT;PARTSTAT=ACCEPTED;RSVP=TRUE;CN=nelly:htt
 ps://epanews.fr/profile/espacenellybl
END:VEVENT
END:VCALENDAR
