BEGIN:VCALENDAR
PRODID:NingEventWidget-v1
VERSION:2.0
METHOD:PUBLISH
BEGIN:VTIMEZONE
TZID:Europe/Paris
X-LIC-LOCATION:Europe/Paris
BEGIN:DAYLIGHT
TZOFFSETFROM:+0100
TZOFFSETTO:+0200
TZNAME:CEST
DTSTART:19700329T020000
RRULE:FREQ=YEARLY;BYMONTH=3;BYDAY=-1SU
END:DAYLIGHT
BEGIN:STANDARD
TZOFFSETFROM:+0200
TZOFFSETTO:+0100
TZNAME:CET
DTSTART:19701025T030000
RRULE:FREQ=YEARLY;BYMONTH=10;BYDAY=-1SU
END:STANDARD
END:VTIMEZONE
BEGIN:VEVENT
UID:2485226:Event:2271973
DTSTAMP:20260422T091443Z
SUMMARY:Atelier \"La Conscience du Coeur\" avec Yann CorÃ©
DESCRIPTION:Ces ateliers sont une fusion entre autre, des ateliers: Â«
 Â La respiration, clÃ© de VieÂ Â», Â«Â La GuÃ©rison MDÂ Â», Â«Â MÃ©dit
 ation et PrÃ©senceÂ Â», Â«Â Les Ã©nergies de VieÂ Â», Â«Â Extra-sensÂ 
 Â», Â«Â Au Coeur du CoeurÂ Â», Â«Â Au Coeur du CorpsÂ Â»,â€¦\nLes Atel
 iers Â«Â La Conscience du CoeurÂ Â» sont toujours diffÃ©rents, Ã  chaq
 ue fois! De nouveaux thÃ¨mes et pratiques inÃ©dites seront partagÃ©s.\
 nCes stages sont un espace sacrÃ©, de retrouvailles avec soi mÃªme et 
 avec tout ce qui est. Une plongÃ©e au coeur des choses, en soi mÃªme.\
 nLors de ces ateliers, oÃ¹ nous explorerons entre autre, la dimension 
 du Coeur-Conscient, nous plongerons au Coeur de Tout, au creux de Tout
 , au creux de lâ€™Ãªtre, nous nous dÃ©tendrons dans le silence du cali
 ce du Coeur de notre Coeur qui nâ€™est autre que la Source de Vie Une.
 \nCet atelier sâ€™adresse Ã  tous, que vous soyez dÃ©butant ou expÃ©ri
 mentÃ©, car il offre une vision et une expÃ©rience, Ã©purÃ©e, simple e
 t profonde.\nContenu dÃ©taillÃ© des Sessions:\n- Enseignements inspirÃ
 ©s. - Exercices respiratoires (pratiques inÃ©dites) - Pratiques de guÃ
 ©rison et dâ€™auto-guÃ©rison (canalisation dâ€™Ã©nergie, mÃ©decine vib
 ratoire et quantique, technologie de lâ€™esprit,â€¦),â€¦ - Transmissio
 n de clÃ©s prÃ©cieuses pour faciliter lâ€™introspection. -RÃªves Ã©vei
 llÃ©s collectifs. - MÃ©ditation guidÃ©es, en silence, sonores, dynamiq
 ues,â€¦ - Pratiques de Reliance, dâ€™harmonisation, de Centrage et de 
 dÃ©tente. -Transmission de clÃ©s dâ€™Amour facilitant lâ€™Ouverture du
  Coeur.\n- Mais aussi: chants du Coeur, bhajans, chants sacrÃ©s amÃ©ri
 ndiens, minis voyages sonores, â€¦ - Certaines pratiques seront accomp
 agnÃ©es en musique Live!Â  \nHoraires: 10h-18h  Tarif: 180 euros  Info
 s et inscriptions :  04 76 21 19 89 /Â 06 64 09 59 92 francoise.coline
 t@wanadoo.fr\nAccompagnement individuel sur Grenoble les 17, 20 et 21 
 Avril: RÃªves Ã©veillÃ©s, massages intuitifs MD, soins Ã©nergÃ©tiques,
  Reconnexion MD, Coaching holistique,...  Merci de partager lâ€™info d
 ans vos rÃ©seaux et avec vos amis !  Bienvenue a tous!\n\nPour plus d'
 information, aller sur https://epanews.fr/events/atelier-la-conscience
 -du-coeur-avec-yann-cor-3
DTSTART;TZID=Europe/Paris:20150418T100000
DTEND;TZID=Europe/Paris:20150419T180000
CATEGORIES:38
LOCATION:Ã  Lâ€™Atelier du Mieux-ÃŠtre (Ã  15 mn de Grenoble)
WEBSITE:http://www.conscienceducoeur.com
URL:http://www.conscienceducoeur.com
CONTACT:04 76 21 19 89 / 06 64 09 59 92
ORGANIZER;CN="Conscience du Coeur":https://epanews.fr/profile/Conscien
 ceduCoeur
ATTACH;FMTTYPE="image/jpeg":http://storage.ning.com/topology/rest/1.0/
 file/get/1663310962?profile=original
ATTENDEE;ROLE=REQ-PARTICIPANT;PARTSTAT=ACCEPTED;RSVP=TRUE;CN="Conscien
 ce du Coeur":https://epanews.fr/profile/ConscienceduCoeur
END:VEVENT
END:VCALENDAR
