BEGIN:VCALENDAR
PRODID:NingEventWidget-v1
VERSION:2.0
METHOD:PUBLISH
BEGIN:VTIMEZONE
TZID:Europe/Paris
X-LIC-LOCATION:Europe/Paris
BEGIN:DAYLIGHT
TZOFFSETFROM:+0100
TZOFFSETTO:+0200
TZNAME:CEST
DTSTART:19700329T020000
RRULE:FREQ=YEARLY;BYMONTH=3;BYDAY=-1SU
END:DAYLIGHT
BEGIN:STANDARD
TZOFFSETFROM:+0200
TZOFFSETTO:+0100
TZNAME:CET
DTSTART:19701025T030000
RRULE:FREQ=YEARLY;BYMONTH=10;BYDAY=-1SU
END:STANDARD
END:VTIMEZONE
BEGIN:VEVENT
UID:2485226:Event:2899875
DTSTAMP:20260421T191047Z
SUMMARY:Atelier l'intuition et le pouvoir de l'intention juste
DESCRIPTION:Nous sommes tous des intuitifs potentiels ! Nous pouvons d
 Ã©velopper le lien Ã  notre voix intÃ©rieure qui donnent des informati
 ons..\nIl est aujourd'hui avÃ©rÃ© que la force de l'intention est une 
 rÃ©alitÃ©. Nous n'avons pas souvent le rÃ©flexe d'utiliser son pouvoir
  , comme nous n'utilisons pas notre intuition au mieux de notre potent
 iel.\n\nÂ Â  Â  Â  Â  Â  Â  Â  Â  Â  Â  Â  Â  Â  Â  Â  Â  Â  Â  Â Â Â 
 Â But de l'AtelierÂ Â \n\nDÃ©veloppez votre intuitionÂ grÃ¢ce Ã  la mÃ
 ©thode intuit'express transmise dans cet atelier.\nVous allez apprendr
 e Ã  vous libÃ©rer de vos peurs et de vos freins pour faire davantage 
 confiance aux informations qu'elle vous donne et accÃ©der plus facilem
 ent Ã  vos facultÃ©s intuitives.Â \n\nLe pouvoir de l'intention justeÂ
  \nNous avons tous le dÃ©sir d'une vie meilleure, avoir de la chance, 
 dÃ©velopper notre vision du bonheur. Nous avons tous des rÃªves Ã  rÃ©
 aliser.Â \nCe dÃ©sir devient rÃ©alitÃ©, si , et seulement si, notre in
 tention est en accord avec le dÃ©sir de notre Ã‚me ou inconscient.Â  A
 lors nous attirons les synchronicitÃ©s et circonstances qui nous mÃ¨ne
 nt Ã  sa rÃ©alisation.\nAu cours de cet atelier par des allers-retours
  entre votre raisonnement conscient et l'Ã©coute de votre intuition, v
 ous apprendrez Ã  savoir reconnaitre si ce que vous dÃ©sirez est en ac
 cord avec vous-mÃªmes et donc rÃ©alisable. Vous ferez mÃªme parfois de
 s dÃ©couvertes surprenantes sur vos intentions et vous-mÃªmes...\nLes 
 effets bÃ©nÃ©fiques secondaires de cette pratique seront plus d'optimi
 sme, plus de prÃ©sence, plus de synchronicitÃ©, de rencontres,de fanta
 isie, plus d'enchantement dans votre vie.Â  Vous serez plus en phaseÂ 
 avec vous-mÃªme, votre intuition et votre environnement.Â \n\nMÃ©thode
 \nAlternance d'exercices de rÃ©flexion et d'exercices pratiques corpor
 els individuels et en groupe,Â  de l'Ã©coute des autres et de l'enviro
 nnement.\nCet atelier se compose de trois sessions Ã  1 ou 2 mois d'in
 tervalle, vous pouvez suivre la premiÃ¨re avant de vous inscrire Ã  la
  suivante.\n\nApporterÂ \nUn cahier...et votre bonne humeur\n14 heures
  Ã  17 heures\nrÃ©servation et conditions auprÃ¨s Anne des Ateliers-Ox
 ygÃ¨ne:0607814993 ouÂ Â ateliersoxygene@gmail.com\n\nHelena Cournelle 
 est sophrologue, coach de vie, medium depuis plus de 25 ans. Elle util
 ise aussiÂ  la lecture des mains et du tarot.\nwww.vouseteslecoachdevo
 trevie.com\nÂ \n\n\n\nPour plus d'information, aller sur https://epane
 ws.fr/events/atelier-l-intuition-et-le-pouvoir-de-l-intention-juste
DTSTART;TZID=Europe/Paris:20171125T140000
DTEND;TZID=Europe/Paris:20171125T170000
CATEGORIES:13
LOCATION:Sausset les pins
WEBSITE:
URL:
CONTACT:0607814993
ORGANIZER;CN=Anne1324:https://epanews.fr/profile/Anne1324
ATTACH;FMTTYPE="image/jpeg":http://storage.ning.com/topology/rest/1.0/
 file/get/1663698712?profile=original
ATTENDEE;ROLE=REQ-PARTICIPANT;PARTSTAT=ACCEPTED;RSVP=TRUE;CN=Anne1324:
 https://epanews.fr/profile/Anne1324
END:VEVENT
END:VCALENDAR
