BEGIN:VCALENDAR
PRODID:NingEventWidget-v1
VERSION:2.0
METHOD:PUBLISH
BEGIN:VTIMEZONE
TZID:Europe/Paris
X-LIC-LOCATION:Europe/Paris
BEGIN:DAYLIGHT
TZOFFSETFROM:+0100
TZOFFSETTO:+0200
TZNAME:CEST
DTSTART:19700329T020000
RRULE:FREQ=YEARLY;BYMONTH=3;BYDAY=-1SU
END:DAYLIGHT
BEGIN:STANDARD
TZOFFSETFROM:+0200
TZOFFSETTO:+0100
TZNAME:CET
DTSTART:19701025T030000
RRULE:FREQ=YEARLY;BYMONTH=10;BYDAY=-1SU
END:STANDARD
END:VTIMEZONE
BEGIN:VEVENT
UID:2485226:Event:1127269
DTSTAMP:20260421T211418Z
SUMMARY:Atelier : Lâ€™Art dâ€™Etre EgoÃ¯ste ou Comment devenir un Ãªtr
 e de service
DESCRIPTION:Il est temps de cesser dâ€™espÃ©rer le regard bienveillant
  des autres, quoi que vous fassiez. Vous Ãªtes seul maÃ®tre de votre b
 onheur.\nBien que le concept dâ€™Ã©goÃ¯sme ait mauvaise presse, câ€™es
 t la clef de votre bonheur, car pour trouver votre bonheur, il faut av
 ant toute chose sâ€™occuper dâ€™abord de soi-mÃªme avant dâ€™aller sâ€
 ™occuper des autres ! Cependant ne confondez pasÂ : Ã©goÃ¯sme et Ã©goc
 entrisme.\nEn Ã©tant Ã©goÃ¯ste, nos relations avec les autres sâ€™amÃ©
 liorent et sâ€™enrichissent, car en rÃ©alisant nos dÃ©sirs, en rÃ©pond
 ant Ã  nos besoins propres, nous arrÃªtons dâ€™infliger nos insatisfac
 tions, nos frustrations Ã  votre entourage.\nLe dicton populaire dit b
 ienÂ : Â«Â CharitÃ© bien ordonnÃ©e commence par soi-mÃªme !Â Â»\nLâ€™Ã
 ©goÃ¯sme est une qualitÃ© qui vous rendra la vie plus belle et vous pe
 rmettra enfin de servir harmonieusement lâ€™humanitÃ©.\nLe but de ces 
 ateliers est deÂ vous permettre\n-Â Â Â Â Â  de vous libÃ©rer du regar
 d des autres\n-Â Â Â Â Â  dâ€™apprendre Ã  identifier vos dÃ©sirs et Ã
   mieux dÃ©fendre vos propres intÃ©rÃªts\n-Â Â Â Â Â  de prendre votre
  vie en main et dâ€™assumer la responsabilitÃ© de votre bonheur\n-Â Â 
 Â Â Â  de vivre en harmonie avec vous-mÃªmeâ€¦ et les autres !\n\nPour
  plus d'information, aller sur https://epanews.fr/events/atelier-l-art
 -d-etre-ego-ste-ou-comment-devenir-un-tre-de-service
DTSTART;TZID=Europe/Paris:20130209T133000
DTEND;TZID=Europe/Paris:20130209T183000
CATEGORIES:33
LOCATION:Cabinet Relax & VitalitÃ©
WEBSITE:http://www.relax-vitalite.com
URL:http://www.relax-vitalite.com
CONTACT:05 56 96 70 28
ORGANIZER;CN="Le Centre Relax VitalitÃ©":https://epanews.fr/profile/CA
 UVIN
ATTACH;FMTTYPE="image/jpeg":http://storage.ning.com/topology/rest/1.0/
 file/get/1662742603?profile=original
ATTENDEE;ROLE=REQ-PARTICIPANT;PARTSTAT=ACCEPTED;RSVP=TRUE;CN="Le Centr
 e Relax VitalitÃ©":https://epanews.fr/profile/CAUVIN
END:VEVENT
END:VCALENDAR
