BEGIN:VCALENDAR
PRODID:NingEventWidget-v1
VERSION:2.0
METHOD:PUBLISH
BEGIN:VTIMEZONE
TZID:Europe/Paris
X-LIC-LOCATION:Europe/Paris
BEGIN:DAYLIGHT
TZOFFSETFROM:+0100
TZOFFSETTO:+0200
TZNAME:CEST
DTSTART:19700329T020000
RRULE:FREQ=YEARLY;BYMONTH=3;BYDAY=-1SU
END:DAYLIGHT
BEGIN:STANDARD
TZOFFSETFROM:+0200
TZOFFSETTO:+0100
TZNAME:CET
DTSTART:19701025T030000
RRULE:FREQ=YEARLY;BYMONTH=10;BYDAY=-1SU
END:STANDARD
END:VTIMEZONE
BEGIN:VEVENT
UID:2485226:Event:628884
DTSTAMP:20260424T104852Z
SUMMARY:Atelier:\"Je suis bien dans mon corps. Je vis bien avec mes é
 motions\".
DESCRIPTION:Pour se sentir bien dans sa peau  et dans son présent.\n
  Il s'agit , grâce à l'apprentissage d'une méthode de Relaxation
   Dynamique (Sophrologie) de ...relâcher les tensions inutiles, rest
 aurer son énergie naturelle, mobiliser la capacité de confiance en s
 oi, favoriser une écoute corporelle positive, apprendre à gérer son
  stress et développer sa capacité à maitriser ses émotions.\nInfor
 mations et inscription par téléphone, 50 euros.\n\nPour plus d'infor
 mation, aller sur https://epanews.fr/events/atelier-je-suis-bien-dans-
 mon-corps-je-vis-bien-avec-mes-motions
DTSTART;TZID=Europe/Paris:20120120T140000
DTEND;TZID=Europe/Paris:20120120T170000
CATEGORIES:83
LOCATION:Toulon
WEBSITE:http://sophrologues.org/genevievedespraux
URL:http://sophrologues.org/genevievedespraux
CONTACT:06 16 74 53 92
ORGANIZER;CN="Geneviève DESPRAUX":https://epanews.fr/profile/Geneviev
 eDESPRAUX
ATTACH;FMTTYPE="image/jpeg":http://storage.ning.com/topology/rest/1.0/
 file/get/1662518766?profile=original
ATTENDEE;ROLE=REQ-PARTICIPANT;PARTSTAT=ACCEPTED;RSVP=TRUE;CN="Geneviè
 ve DESPRAUX":https://epanews.fr/profile/GenevieveDESPRAUX
END:VEVENT
END:VCALENDAR
