BEGIN:VCALENDAR
PRODID:NingEventWidget-v1
VERSION:2.0
METHOD:PUBLISH
BEGIN:VTIMEZONE
TZID:Europe/Paris
X-LIC-LOCATION:Europe/Paris
BEGIN:DAYLIGHT
TZOFFSETFROM:+0100
TZOFFSETTO:+0200
TZNAME:CEST
DTSTART:19700329T020000
RRULE:FREQ=YEARLY;BYMONTH=3;BYDAY=-1SU
END:DAYLIGHT
BEGIN:STANDARD
TZOFFSETFROM:+0200
TZOFFSETTO:+0100
TZNAME:CET
DTSTART:19701025T030000
RRULE:FREQ=YEARLY;BYMONTH=10;BYDAY=-1SU
END:STANDARD
END:VTIMEZONE
BEGIN:VEVENT
UID:2485226:Event:1135002
DTSTAMP:20260421T144849Z
SUMMARY:Atelier je mincis par hypnose.
DESCRIPTION:Vous avez tout essayé pour maigrir? Les régimes, le spor
 t à outrance, les thérapies. Vous avez maigri, regrossi, maigri enco
 re regrossi, ... vous avez de la volonté pour un tas de choses, ... m
 ais vous vous sentez impuissant face à la nourriture ... L'hypnothér
 apie va enfin vous aider durablement. Vous pouvez participer à nos at
 eliers, ou pratiquer nos méthodes alimentaires par hypnose de chez 
 vous.\n\nPour plus d'information, aller sur https://epanews.fr/events/
 atelier-je-mincis-par-hypnose
DTSTART;TZID=Europe/Paris:20130211T190000
DTEND;TZID=Europe/Paris:20130211T203000
CATEGORIES:belgique
LOCATION:Liège
WEBSITE:http://www.hypnose-liege.com/contact.html
URL:http://www.hypnose-liege.com/contact.html
CONTACT:www.hypnose-liege.com
ORGANIZER;CN="Preud'homme":https://epanews.fr/profile/Preudhomme
ATTACH;FMTTYPE="image/jpeg":
ATTENDEE;ROLE=REQ-PARTICIPANT;PARTSTAT=ACCEPTED;RSVP=TRUE;CN="Preud'ho
 mme":https://epanews.fr/profile/Preudhomme
END:VEVENT
END:VCALENDAR
