BEGIN:VCALENDAR
PRODID:NingEventWidget-v1
VERSION:2.0
METHOD:PUBLISH
BEGIN:VTIMEZONE
TZID:Europe/Paris
X-LIC-LOCATION:Europe/Paris
BEGIN:DAYLIGHT
TZOFFSETFROM:+0100
TZOFFSETTO:+0200
TZNAME:CEST
DTSTART:19700329T020000
RRULE:FREQ=YEARLY;BYMONTH=3;BYDAY=-1SU
END:DAYLIGHT
BEGIN:STANDARD
TZOFFSETFROM:+0200
TZOFFSETTO:+0100
TZNAME:CET
DTSTART:19701025T030000
RRULE:FREQ=YEARLY;BYMONTH=10;BYDAY=-1SU
END:STANDARD
END:VTIMEZONE
BEGIN:VEVENT
UID:2485226:Event:1973361
DTSTAMP:20260421T131302Z
SUMMARY:ConfÃ©rence : L'Intuition...Entendez vous ? Ã‰coutez-vous ? Sa
 lon Zen Ã  Paris
DESCRIPTION:Dimanche le 5 octobre Ã  12h Â \nÂ Lâ€™INTUITIONÂ â€¦ Â En
 tendez-vousÂ ? Â Â Ã‰coutez-vousÂ ? Â \nToutes les situations de votre
  vie sontÂ Ã  votre service.\nRien nâ€™est lÃ  pour rien. On peut choi
 sir dâ€™Ãªtre victime ou dâ€™Ãªtre crÃ©ateur.Â  LÃ  rÃ©side notre libe
 rtÃ©.Â \nExercices simples et mise en pratique pour reconnaÃ®tre etÂ  
 dÃ©velopperÂ  son Intuition et sa capacitÃ© Ã  Ãªtre prÃ©sente et cons
 ciente aux situations de faÃ§on Ã  en retirer les enseignements. Â Un 
 nouveau regard sur le situations quiÂ  change le goÃ»t et la saveur de
  nos expÃ©riences.Â \n\nVenez Â rencontrer Â Aashti sur son stand N6bi
 s\nRecevoir une lecture intuitive, avec le TAROT\nDes mini-rencontres 
 qui vont droit auÂ CÅ“ur\nÃ‰couter ses confÃ©rences\nParticiper Ã  lâ€
 ™atelier pratique\nJe fais ce salon pour donner la chance aux gens de 
 me rencontrer, de partager, alors nâ€™hÃ©sitez pas a vous arrÃªter pou
 r savourer quelques Â«Â instantsÂ Â» de maintenant.\nÂ Â \nMes autres 
 confÃ©rences :\nJeudi 2 octobre Ã  17h Â :Â Â Shaking et silence\nVend
 redi 3 octobre Ã  16h,Â  atelier 3\nÂ«Â  Secrets pour retrouver son Â 
  HÃ©ritage dâ€™AMOURÂ , sa pleine valeur, sa juste place Â et Â vivre 
 en conscienceâ€¦ le cÅ“ur ouvert Â !Â Â»\nSamediÂ  4 octobreÂ  Ã  13h 
 atelier 3\nÂ« Que viens-tu vivre sur TERREÂ ? Comment vont Â tes alliÃ
 ©sÂ ? Quelle est ta mÃ©decineÂ ?Â  Quâ€™as-tu Ã  Â offrirÂ ?Â Â»\nDima
 nche 5 octobre Ã  16h : Â PrÃ©sence et bienveillance au quotidien\nLun
 di 6 octobre Ã  13h,Â  atelier 2\nÂ«Lâ€™Art de GAI-RIRE, de la thÃ©rap
 ie Ã  la mÃ©ditationâ€¦ RIRES, Â PLEURS et Â SILENCEÂ»\nÂ \nSALON ZENÂ
  \nImprimez vos invitations sur le siteÂ Â http://www.salon-zen.fr\n2-
 6 octobre 2014\n10h30 â€“ 19h nocture 21h vendrediÂ  Espace Champerret
 ,Â Paris 17Ã¨me\nAashti Tousignant\nÃ‰cole In-Tuition QuÃ©bec /Europe 
 France : 06 03 37 30 13 QuÃ©bec : 514 284 5011 (laissez un message) aa
 shti@ecoleintuition.com www.ecoleintuition.com www.facebook.com/ecolei
 ntuition.com\n\nPour plus d'information, aller sur https://epanews.fr/
 events/atelier-intuition-entendez-vous-ecoutez-vous-salon-zen-paris
DTSTART;TZID=Europe/Paris:20141005T000000
DTEND;TZID=Europe/Paris:20141005T130000
CATEGORIES:75
LOCATION:Paris, Espace Champeret
WEBSITE:http://www.ecoleintuition.com
URL:http://www.ecoleintuition.com
CONTACT:
ORGANIZER;CN=Aashti:https://epanews.fr/profile/Aashti
ATTACH;FMTTYPE="image/jpeg":http://storage.ning.com/topology/rest/1.0/
 file/get/1663173490?profile=original
ATTENDEE;ROLE=REQ-PARTICIPANT;PARTSTAT=ACCEPTED;RSVP=TRUE;CN=Aashti:ht
 tps://epanews.fr/profile/Aashti
END:VEVENT
END:VCALENDAR
