BEGIN:VCALENDAR
PRODID:NingEventWidget-v1
VERSION:2.0
METHOD:PUBLISH
BEGIN:VTIMEZONE
TZID:Europe/Paris
X-LIC-LOCATION:Europe/Paris
BEGIN:DAYLIGHT
TZOFFSETFROM:+0100
TZOFFSETTO:+0200
TZNAME:CEST
DTSTART:19700329T020000
RRULE:FREQ=YEARLY;BYMONTH=3;BYDAY=-1SU
END:DAYLIGHT
BEGIN:STANDARD
TZOFFSETFROM:+0200
TZOFFSETTO:+0100
TZNAME:CET
DTSTART:19701025T030000
RRULE:FREQ=YEARLY;BYMONTH=10;BYDAY=-1SU
END:STANDARD
END:VTIMEZONE
BEGIN:VEVENT
UID:2485226:Event:23263
DTSTAMP:20260422T150337Z
SUMMARY:Atelier initiation voix
DESCRIPTION:2 ateliers mensuels \"initiation voix, chaque 1er et 3Ã¨me
  Samedi de chaque mois.\n\nJe vous propose des ateliers, synthÃ¨se de 
 mon parcours, qui vous permettront dâ€™acquÃ©rir les bases fondamental
 es pour trouver votre voix et explorer votre expression personnelle en
  profondeur.Nous aborderons le corps, instrument de la voix, outil du 
 comÃ©dien ainsi que vÃ©hicule dâ€™expression, le souffle, le rythme, l
 'inspiration... Nous rÃ©aliserons alors que chacun est en mesure de pa
 rtager et de toucher l'autre avec ce qu'il est et ce quâ€™il offre et 
 que tout Ã  chacun peut donner de la voix, ce que nous ferons dans la 
 bonne humeur et la joie!Lorsque l'on sort du verbe, momentanÃ©ment, d'
 autres espaces sont Ã  dÃ©couvrir.\nTÃ©moignage d'Ã©lÃ¨ve:\nÂ« Jâ€™ai 
 essayÃ© la chorale, la variÃ©tÃ©, le lyrique, jâ€™ai appris les vocali
 ses, les staccatos, mais jamais jusquâ€™Ã  ma rencontre avec VÃ©roniqu
 e Lesage, je nâ€™avais rÃ©ussi Ã  faire sortir la voix qui est lovÃ©e 
 tout au fond de moi. MalgrÃ© tous mes efforts et mon dÃ©sir, tout ce q
 ue jâ€™entendais, ne me correspondait pas.\nCâ€™est le mot Â« improvis
 ation Â» qui mâ€™avait fait prendre ma voiture depuis Aix. Câ€™est le 
 mot Â« technique Â» qui mâ€™a ouvert les portes. Oh pas de ces techniq
 ues rÃ©barbatives qui vous font cabrer mais des exercices ludiques et 
 libÃ©rateurs sur fond de bienveillance et de non jugement.\nEt voilÃ  
 quâ€™au bout dâ€™Ã  peine une annÃ©e de sÃ©ances dâ€™improvisation, câ
 €™est arrivÃ©. Elle (ma vraie voix) et moi, nous sommes rencontrÃ©es d
 ans les mÃ©andres dâ€™une improvisation. Tel lâ€™oiseau qui ne craint 
 plus les turbulences, elle est sortie et je lâ€™ai laissÃ©e aller sur 
 les ailes dâ€™une libertÃ© inconnue.\nDire que câ€™est magique, ne suf
 fit pas, câ€™est une expÃ©rience bien plus subtile et troublante, qui 
 me remplit de joie et de bien Ãªtre. Â»\nF. Hutin\nvoire site: http://
 veronique.lesage1.free.fr\n\nPour plus d'information, aller sur https:
 //epanews.fr/events/atelier-initiation-voix-1
DTSTART;TZID=Europe/Paris:20091212T143000
DTEND;TZID=Europe/Paris:20091212T163000
CATEGORIES:84
LOCATION:Cours de Chant
WEBSITE:http://rencontresduchapeau.free.fr
URL:http://rencontresduchapeau.free.fr
CONTACT:0685802768
ORGANIZER;CN="vÃ©ronique Lesage":https://epanews.fr/profile/veroniqueL
 esage
ATTACH;FMTTYPE="image/jpeg":http://storage.ning.com/topology/rest/1.0/
 file/get/1662282162?profile=original
ATTENDEE;ROLE=REQ-PARTICIPANT;PARTSTAT=ACCEPTED;RSVP=TRUE;CN="vÃ©roniq
 ue Lesage":https://epanews.fr/profile/veroniqueLesage
END:VEVENT
END:VCALENDAR
