BEGIN:VCALENDAR
PRODID:NingEventWidget-v1
VERSION:2.0
METHOD:PUBLISH
BEGIN:VTIMEZONE
TZID:Europe/Paris
X-LIC-LOCATION:Europe/Paris
BEGIN:DAYLIGHT
TZOFFSETFROM:+0100
TZOFFSETTO:+0200
TZNAME:CEST
DTSTART:19700329T020000
RRULE:FREQ=YEARLY;BYMONTH=3;BYDAY=-1SU
END:DAYLIGHT
BEGIN:STANDARD
TZOFFSETFROM:+0200
TZOFFSETTO:+0100
TZNAME:CET
DTSTART:19701025T030000
RRULE:FREQ=YEARLY;BYMONTH=10;BYDAY=-1SU
END:STANDARD
END:VTIMEZONE
BEGIN:VEVENT
UID:2485226:Event:2048740
DTSTAMP:20260422T223108Z
SUMMARY:atelier: incarner son être sacré avec puissance et mouvement
DESCRIPTION:Thème abordé: Le mouvement de la Spirale   Dans un cadre
  propice à la rencontre intérieure, Marylène Famel vous enseigne av
 ec bienveillance à incarner pleinement votre Être sacré. Inspiré p
 ar les musiques traditionnelles d'Orient, vous apprendrez à laisser l
 ibre cours au mouvement de votre nature profonde.   Déroulement de l'
 atelier :  Par un bodywork articulé autour de la Méthode des 5 point
 s créé par Marylène Famel, la première partie de l'atelier favoris
 era un ancrage profond à la Terre par la reconnexion à son périnée
  et une conscience nouvelle de sa structure corporelle.  Dans un deuxi
 ème temps, un voyage méditatif impulsera le mouvement de la Spirale.
    L'atelier est un temps de bien être et de partage ou vous ressorti
 rez avec une force créatrice renouvelé en ayant une vision profonde 
 de qui vous être réellement. Vous aurez des clés de connaissance pu
 issante sur votre structure corporelle ainsi que des exercices faciles
  à appliquer au quotidien pour fortifier votre corps.   A l'issu de l
 'atelier vous aurez également accès au groupe Facebook réservé aux
  personnes ayant bénéficié des enseignements de Marylène.  L'inter
 venante:  Marylène Famel Thérapeute, accompagnatrice de l'Etre, form
 atrice, danseuse-comedienne.  Après avoir parcouru la France et l'Eur
 ope pour des spectacles , Marylène à développé il y a plusieurs an
 nées sa propre méthode de travail corporel.  La méthode des 5 point
 s est basée sur la stimulation des centres énergétiques fondamentau
 x du corps par un enchaînement de postures ancestrales et traditionne
 lles.  Cette méthode permet de se restructurer physiquement et de pre
 ndre conscience de sa maison corporelle pour parvenir à harmoniser l'
 action et la pensée de l'Etre.   Tarif : 80 euros + 10 euros d'adhés
 ion à l'association Dunessence (pour toutes les personnes ayant parti
 cipé à un ou plusieurs stages durant l'année 2014 avec Marylène Fa
 mel l'adhésion est offerte) RÈGLEMENT EN DEUX FOIS ACCEPTÉ  Pour vo
 us inscrire merci d'envoyer un e mail à dunessence@gmail.com  Informa
 tions pratiques : Choisir une tenue souple ( pantalon souple, jupe lon
 gue, t-shirt, foulards)   Le stage se déroulera le dimanche 23 novemb
 re entre 12h et 16h à Micadanses, studio Biped, entrée au 16 Rue Geo
 ffroy l'Asnier, 75004 Paris (métro Saint Paul)\n\nPour plus d'informa
 tion, aller sur https://epanews.fr/events/atelier-incarner-son-tre-sac
 r-avec-puissance-et-mouvement
DTSTART;TZID=Europe/Paris:20141123T000000
DTEND;TZID=Europe/Paris:20141123T160000
CATEGORIES:75
LOCATION:Micadanses, studio Biped, entrée au 16 Rue Geoffroy l'Asnier
 , 75004 Paris
WEBSITE:
URL:
CONTACT:
ORGANIZER;CN=Dunessence:https://epanews.fr/profile/Dunessence
ATTACH;FMTTYPE="image/jpeg":http://storage.ning.com/topology/rest/1.0/
 file/get/1663210713?profile=original
ATTENDEE;ROLE=REQ-PARTICIPANT;PARTSTAT=ACCEPTED;RSVP=TRUE;CN=Dunessenc
 e:https://epanews.fr/profile/Dunessence
END:VEVENT
END:VCALENDAR
