BEGIN:VCALENDAR
PRODID:NingEventWidget-v1
VERSION:2.0
METHOD:PUBLISH
BEGIN:VTIMEZONE
TZID:Europe/Paris
X-LIC-LOCATION:Europe/Paris
BEGIN:DAYLIGHT
TZOFFSETFROM:+0100
TZOFFSETTO:+0200
TZNAME:CEST
DTSTART:19700329T020000
RRULE:FREQ=YEARLY;BYMONTH=3;BYDAY=-1SU
END:DAYLIGHT
BEGIN:STANDARD
TZOFFSETFROM:+0200
TZOFFSETTO:+0100
TZNAME:CET
DTSTART:19701025T030000
RRULE:FREQ=YEARLY;BYMONTH=10;BYDAY=-1SU
END:STANDARD
END:VTIMEZONE
BEGIN:VEVENT
UID:2485226:Event:2023719
DTSTAMP:20260426T052425Z
SUMMARY:atelier hatha yoga
DESCRIPTION:L'atelier est plein merci de laisser un commentaire pour v
 ous mettre en liste d'attente.\nL'association Lamibonheur vous propose
  un nouvel atelier qui sera suivi d'un repas facultatif et gratuit, la
  boisson et le couvert étant fournis par l'assocaition:\nEtre bien en
  soi et avec les autres. L’équilibre corps/souffle/mental\n \nEli 
 Kovatcheva, élève professeur 3e année à l’EFYSE, agrée par l’
 Union Européenne de Yoga.\nJe vous propose cours de Hatha yoga (dans 
 le respect de la tradition indienne) une fois par mois au sein d’ass
 ociation « Lamibonheur ». La pratique consiste des postures (asana
 s), contrôle du souffle et méditation.\nDurée 1 heure.\nPour ceux q
 ui sont intéressés, merci de vous munir d’un tapis de sol (de pré
 férence antidérapant) le petit coussin est bienvenu, les vêtements 
 souples pour ne pas limiter les mouvements du corps…\nAprès un cour
 s d’essai le certificat médical de non contre-indications de la pra
 tique du yoga est exigé. \nLes cours sont ouverts à tous. Les place
 s sont limitées à 5-6 personnes.\n Prix : 6€ pour la salle\n \n\
 nPour plus d'information, aller sur https://epanews.fr/events/atelier-
 hatha-yoga
DTSTART;TZID=Europe/Paris:20140926T190000
DTEND;TZID=Europe/Paris:20140926T200000
CATEGORIES:83
LOCATION:TOULON OUEST
WEBSITE:
URL:
CONTACT:0661912800
ORGANIZER;CN="Patrick MALLET":https://epanews.fr/profile/mallet
ATTACH;FMTTYPE="image/jpeg":http://storage.ning.com/topology/rest/1.0/
 file/get/1663200169?profile=original
ATTENDEE;ROLE=REQ-PARTICIPANT;PARTSTAT=ACCEPTED;RSVP=TRUE;CN="Patrick 
 MALLET":https://epanews.fr/profile/mallet
ATTENDEE;ROLE=REQ-PARTICIPANT;PARTSTAT=ACCEPTED;RSVP=TRUE;CN="Union du
  Yoga":https://epanews.fr/profile/UnionDuYoga
ATTENDEE;ROLE=REQ-PARTICIPANT;PARTSTAT=ACCEPTED;RSVP=TRUE;CN="LEGRAND 
 Brigitte":https://epanews.fr/profile/LEGRANDBrigitte
ATTENDEE;ROLE=REQ-PARTICIPANT;PARTSTAT=TENTATIVE;RSVP=TRUE;CN="Anne-Ma
 rie PAILLARD":https://epanews.fr/profile/AnneMariePAILLARD
END:VEVENT
END:VCALENDAR
