BEGIN:VCALENDAR
PRODID:NingEventWidget-v1
VERSION:2.0
METHOD:PUBLISH
BEGIN:VTIMEZONE
TZID:Europe/Paris
X-LIC-LOCATION:Europe/Paris
BEGIN:DAYLIGHT
TZOFFSETFROM:+0100
TZOFFSETTO:+0200
TZNAME:CEST
DTSTART:19700329T020000
RRULE:FREQ=YEARLY;BYMONTH=3;BYDAY=-1SU
END:DAYLIGHT
BEGIN:STANDARD
TZOFFSETFROM:+0200
TZOFFSETTO:+0100
TZNAME:CET
DTSTART:19701025T030000
RRULE:FREQ=YEARLY;BYMONTH=10;BYDAY=-1SU
END:STANDARD
END:VTIMEZONE
BEGIN:VEVENT
UID:2485226:Event:3117267
DTSTAMP:20260425T181000Z
SUMMARY:atelier guérison des mémoires familiales
DESCRIPTION:Au cours de cette visio-conférence en direct, nous aborde
 rons l'impact des mémoires familiales sur notre vie.\nDes information
 s, des outils seront communiqués pour aider à la libération des lie
 ns et des schémas toxiques.\nUn soin énergétique profond sera égal
 ement dispensé pour guérir de ces influences.\nLe nombre de places e
 st limité afin d'avoir un temps d'échange  pour répondre en direct
  aux questions des participants.\nAtelier animé par:\nCatherine Jonna
 rd, praticienne en lecture des annales akashiques\net\nMichel Dubray, 
 herboriste et phytothérapeute\n\nPour plus d'information, aller sur h
 ttps://epanews.fr/events/atelier-gu-rison-des-m-moires-familiales
DTSTART;TZID=Europe/Paris:20210322T183000
DTEND;TZID=Europe/Paris:20210322T203000
CATEGORIES:tous
LOCATION:visio-conférence sur internet
WEBSITE:https://www.fairelalumiereensoi.com/
URL:https://www.fairelalumiereensoi.com/
CONTACT:0780011290
ORGANIZER:
ATTACH;FMTTYPE="image/jpeg":
ATTENDEE;ROLE=REQ-PARTICIPANT;PARTSTAT=ACCEPTED;RSVP=TRUE;CN=Catherine
 :https://epanews.fr/profile/Kate999
END:VEVENT
END:VCALENDAR
