BEGIN:VCALENDAR
PRODID:NingEventWidget-v1
VERSION:2.0
METHOD:PUBLISH
BEGIN:VTIMEZONE
TZID:Europe/Paris
X-LIC-LOCATION:Europe/Paris
BEGIN:DAYLIGHT
TZOFFSETFROM:+0100
TZOFFSETTO:+0200
TZNAME:CEST
DTSTART:19700329T020000
RRULE:FREQ=YEARLY;BYMONTH=3;BYDAY=-1SU
END:DAYLIGHT
BEGIN:STANDARD
TZOFFSETFROM:+0200
TZOFFSETTO:+0100
TZNAME:CET
DTSTART:19701025T030000
RRULE:FREQ=YEARLY;BYMONTH=10;BYDAY=-1SU
END:STANDARD
END:VTIMEZONE
BEGIN:VEVENT
UID:2485226:Event:2557576
DTSTAMP:20260422T002907Z
SUMMARY:atelier groupes femmes et archetypes, quelles deesses etes vou
 s?, par VÃ©ronique LB
DESCRIPTION:Inscription obligatoire auprÃ¨s de Source du bonheur au 04
  11 75 16 85 ou 06 77 16 31 11Participation 100 â‚¬Â Un chÃ¨que d'arrh
 es de 50 â‚¬ est Ã  verser pour valider votre inscription. Le formulai
 re d'inscription vous sera envoyÃ© par mailÂ La pause repas sera dÃ©te
 rminÃ©e avec les participants. Le repas sera pris Ã  l'exterieur au gr
 Ã© des participants.Les sept dÃ©esses archÃ©typales vivent en nous et 
 nous parlent de couple, abondance, fÃ©minitÃ©, mÃ©diumnitÃ©, nature, i
 ntelligence, initiation....Ã‰coutons-les, inspirons nous, et mettons l
 es dans la lumiÃ¨re, par l'Ã©veil, la conscience et la sensitivitÃ©.Qu
 elles dÃ©esses vous animent : Aphrodite, HÃ©ra, PersÃ©phone, ArtÃ©mis,
  Hestia, DÃ©mÃ©ter, AthÃ©na ?Test des diffÃ©rents archÃ©types qui sous
 -tendent votre psychÃ©, les actions de votre vie, votre dynamisme intÃ
 ©rieur.*Hestia, la Vestale, nous prÃ©sentera le rituel d'Isis, en homm
 age Ã  la dÃ©esse MÃ¨re.Â *DÃ©mÃ©ter nous nourrira de son abondance pa
 r vos mets offerts ....*La sauvage ArtÃ©mis reprendra contact avec les
  chants intuitifs et danse sacrÃ©e.*Aphrodite rejoindra chacune par le
  charme et la douceur ...*AthÃ©na vous prÃ©sentera les diffÃ©rentes ph
 ases de la lune, les runes magiques.*Nous suivrons PersÃ©phone non pas
  chez HadÃ¨s mais en forÃªt ...*tandis quâ€™HÃ©ra s'occupera bien sage
  de vos compagnons en attente Ã  la maison !!!.Le but de cette journÃ©
 e Ã©tant la rÃ©unification des archÃ©types -dÃ©esses qui sont toutes e
 n nous, prise de conscience et Ã©mergence des dÃ©esses manquantes, afi
 n d'Ã©quilibrer notre psychÃ©, la libÃ©rer et nous rÃ©aliser !!!!!Atel
 ier animÃ© par VÃ©ronique,Â \" Il me tient Ã  cÅ“ur d'enseigner ce que
  je pratique depuis une vingtaine d'annÃ©es, allant de dÃ©couverte en 
 dÃ©couverte enrichissante.Toute quÃªte spirituelle est sous tendue par
  des ouvertures et des prises de conscience quotidienne.Ma formation i
 nitiale d'hypnothÃ©rapeute, sous tend mes pratiques , par l'Ã©thique e
 t l'attention Ã  la personne, en respect de ses croyances, de son Ãªtr
 e profond et de sa libertÃ© intÃ©rieure surtout. \"\n\nPour plus d'inf
 ormation, aller sur https://epanews.fr/events/atelier-groupes-femmes-e
 t-archetypes-quelles-deesses-etes-vous
DTSTART;TZID=Europe/Paris:20160222T103000
DTEND;TZID=Europe/Paris:20160222T180000
CATEGORIES:34
LOCATION:montpellier centre
WEBSITE:http://www.sourcedubonheur.fr
URL:http://www.sourcedubonheur.fr
CONTACT:0411751685
ORGANIZER;CN=sb34:https://epanews.fr/profile/sb34
ATTACH;FMTTYPE="image/jpeg":http://storage.ning.com/topology/rest/1.0/
 file/get/1663516923?profile=original
ATTENDEE;ROLE=REQ-PARTICIPANT;PARTSTAT=ACCEPTED;RSVP=TRUE;CN=sb34:http
 s://epanews.fr/profile/sb34
END:VEVENT
END:VCALENDAR
