BEGIN:VCALENDAR
PRODID:NingEventWidget-v1
VERSION:2.0
METHOD:PUBLISH
BEGIN:VTIMEZONE
TZID:Europe/Paris
X-LIC-LOCATION:Europe/Paris
BEGIN:DAYLIGHT
TZOFFSETFROM:+0100
TZOFFSETTO:+0200
TZNAME:CEST
DTSTART:19700329T020000
RRULE:FREQ=YEARLY;BYMONTH=3;BYDAY=-1SU
END:DAYLIGHT
BEGIN:STANDARD
TZOFFSETFROM:+0200
TZOFFSETTO:+0100
TZNAME:CET
DTSTART:19701025T030000
RRULE:FREQ=YEARLY;BYMONTH=10;BYDAY=-1SU
END:STANDARD
END:VTIMEZONE
BEGIN:VEVENT
UID:2485226:Event:2635785
DTSTAMP:20260419T141253Z
SUMMARY:Atelier Grenoble : \"DÃ©couvrir et Ã©valuer les 4 types de con
 fiance en soi\"
DESCRIPTION:Atelier Confiance en soiÂ  pour mieux gÃ©rer sa vie\nAteli
 er ludique et pratique pour apprendre Ã  vous dÃ©couvrirÂ ou redÃ©couv
 rir sans jugement, pour progressivement retrouver ou agrandirÂ la conf
 iance en vous, en vos points forts et aussiÂ en votre propre estime de
  vous-mÃªme. Parce que la confiance est nÃ©cessaireÂ pour parvenir Ã  
 atteindre ses buts et rÃ©aliser ses rÃªves, venez participer Ã  cet at
 elier pour dÃ©couvrir et Ã©valuer les 4 types de confiance et prendre 
 un moment pour faire un pas supplÃ©mentaire vers votre confiance en vo
 us.\nMercredi 18 Mai de 19 h 30 Ã  22 h 15Â  au 44 Rue Saint LaurentÂ 
 â€“ Grenoble\nAtelier animÃ© par Catherine Favre-Moiron\nFacilitatrice
  du changement - formatrice - coach\nAtelier sur inscription : kom.rel
 ationnelle@laposte.net TarifÂ  28 â‚¬ non adhÃ©rents - Tarif Duo 42 â‚
 ¬ (soit 21â‚¬/pers)\n\nPour plus d'information, aller sur https://epan
 ews.fr/events/atelier-grenoble-d-couvrir-et-valuer-les-4-types-de-conf
 iance-en
DTSTART;TZID=Europe/Paris:20160518T193000
DTEND;TZID=Europe/Paris:20160518T221500
CATEGORIES:38
LOCATION:Grenoble - Quartier Saint Laurent
WEBSITE:
URL:
CONTACT:06 95 38 06 34
ORGANIZER;CN=Katrine:https://epanews.fr/profile/Katrine
ATTACH;FMTTYPE="image/jpeg":http://storage.ning.com/topology/rest/1.0/
 file/get/1663562237?profile=original
ATTENDEE;ROLE=REQ-PARTICIPANT;PARTSTAT=ACCEPTED;RSVP=TRUE;CN=Katrine:h
 ttps://epanews.fr/profile/Katrine
END:VEVENT
END:VCALENDAR
