BEGIN:VCALENDAR
PRODID:NingEventWidget-v1
VERSION:2.0
METHOD:PUBLISH
BEGIN:VTIMEZONE
TZID:Europe/Paris
X-LIC-LOCATION:Europe/Paris
BEGIN:DAYLIGHT
TZOFFSETFROM:+0100
TZOFFSETTO:+0200
TZNAME:CEST
DTSTART:19700329T020000
RRULE:FREQ=YEARLY;BYMONTH=3;BYDAY=-1SU
END:DAYLIGHT
BEGIN:STANDARD
TZOFFSETFROM:+0200
TZOFFSETTO:+0100
TZNAME:CET
DTSTART:19701025T030000
RRULE:FREQ=YEARLY;BYMONTH=10;BYDAY=-1SU
END:STANDARD
END:VTIMEZONE
BEGIN:VEVENT
UID:2485226:Event:537029
DTSTAMP:20260423T025240Z
SUMMARY:Atelier Gestion du stress
DESCRIPTION:Cet atelier vous permettra de décoder votre stress afin d
 e mieux communiquer dans votre environnement.\ncet atelier se déroule
 ra à la maison des associations à Chalon-sur-Saône,  de 19 h à 
 20 h 30 à la salle C 1er étage.\nTarif est de 22 €\n\nPour plus d'
 information, aller sur https://epanews.fr/events/atelier-gestion-du-st
 ress
DTSTART;TZID=Europe/Paris:20110927T190000
DTEND;TZID=Europe/Paris:20110927T203000
CATEGORIES:71
LOCATION:CHALON/SAONE
WEBSITE:http://www.matherapeute.com
URL:http://www.matherapeute.com
CONTACT:0679832611 ou 03 85 91 98 35
ORGANIZER:MEULNET (association ABFC)
ATTACH;FMTTYPE="image/jpeg":
ATTENDEE;ROLE=REQ-PARTICIPANT;PARTSTAT=ACCEPTED;RSVP=TRUE;CN=MEULNET:h
 ttps://epanews.fr/profile/MEULNET
END:VEVENT
END:VCALENDAR
