BEGIN:VCALENDAR
PRODID:NingEventWidget-v1
VERSION:2.0
METHOD:PUBLISH
BEGIN:VTIMEZONE
TZID:Europe/Paris
X-LIC-LOCATION:Europe/Paris
BEGIN:DAYLIGHT
TZOFFSETFROM:+0100
TZOFFSETTO:+0200
TZNAME:CEST
DTSTART:19700329T020000
RRULE:FREQ=YEARLY;BYMONTH=3;BYDAY=-1SU
END:DAYLIGHT
BEGIN:STANDARD
TZOFFSETFROM:+0200
TZOFFSETTO:+0100
TZNAME:CET
DTSTART:19701025T030000
RRULE:FREQ=YEARLY;BYMONTH=10;BYDAY=-1SU
END:STANDARD
END:VTIMEZONE
BEGIN:VEVENT
UID:2485226:Event:1214653
DTSTAMP:20260423T164519Z
SUMMARY:Atelier Gestion du Stress
DESCRIPTION:Gestion du stress: préparation mentale pour les examens\n
 Des techniques de coaching seront montrées pour gérer le stress et
  se mettre dans un état mental favorable dans les situations de tests
 : examen, oral devant un jury, compétition sportive, permis de condui
 re, entretien d’embauche, etc.\nPour plus d’éfficacité, il est c
 onseillé de venir en avance par rapport à la date de l’examen car 
 ces techniques demandent à être pratiquées régulièrement.\nConta
 ctez le site internet pour tous renseignements et pour obtenir l’a
 dresse exacte.\n\nPour plus d'information, aller sur https://epanews.f
 r/events/atelier-gestion-du-stress-2
DTSTART;TZID=Europe/Paris:20130306T193000
DTEND;TZID=Europe/Paris:20130306T203000
CATEGORIES:75
LOCATION:Paris 12e
WEBSITE:http://ifeelgood.fr/
URL:http://ifeelgood.fr/
CONTACT:
ORGANIZER;CN=Anandani:https://epanews.fr/profile/Anandani
ATTACH;FMTTYPE="image/jpeg":http://storage.ning.com/topology/rest/1.0/
 file/get/1662768367?profile=original
ATTENDEE;ROLE=REQ-PARTICIPANT;PARTSTAT=ACCEPTED;RSVP=TRUE;CN=Anandani:
 https://epanews.fr/profile/Anandani
END:VEVENT
END:VCALENDAR
