BEGIN:VCALENDAR
PRODID:NingEventWidget-v1
VERSION:2.0
METHOD:PUBLISH
BEGIN:VTIMEZONE
TZID:Europe/Paris
X-LIC-LOCATION:Europe/Paris
BEGIN:DAYLIGHT
TZOFFSETFROM:+0100
TZOFFSETTO:+0200
TZNAME:CEST
DTSTART:19700329T020000
RRULE:FREQ=YEARLY;BYMONTH=3;BYDAY=-1SU
END:DAYLIGHT
BEGIN:STANDARD
TZOFFSETFROM:+0200
TZOFFSETTO:+0100
TZNAME:CET
DTSTART:19701025T030000
RRULE:FREQ=YEARLY;BYMONTH=10;BYDAY=-1SU
END:STANDARD
END:VTIMEZONE
BEGIN:VEVENT
UID:2485226:Event:2932398
DTSTAMP:20260421T130930Z
SUMMARY:Atelier: gestes ostéopathiques simples sur les fascias
DESCRIPTION:\nATELIER sur les gestes Ostéopathiques simples sur les f
 ascias \n Avec Pierre GOETT ostéopathe en pratique depuis 18 ans , 
 Psychothérateute en gestalt , sportif et autodidacte en nutrition.\nV
 enez et Apprendre comment faire :\nCet atelier s’adresse à ceux qu
 i cherchent une première approche de cette technique. Accessible à t
 out public, sans connaissance médicale ou anatomique pré-requise. Ce
 s quelques gestes simples vous permettront de pratiquer à la maison s
 ur vos proches ou de soigner en toute sécurité.\nLe samedi 13 Mars 2
 018 à la librairie SHAMBHALLA ( Lyon 03) \nde 14 h00 à 17h00 . Prix
   35 € l'atelier de 3 heures .\nSi vous etes intéressé, n'hésite
 z pas à m'envoyer un mail à  arcadia@aliceadsl.fr  pour réserver 
 et   bloquer une place oubien  06 48 56 24 94  .  \nhttps://www.
 youtube.com/watch?v=ane_KihRUSI\nC’est l' intérêt pour cette passi
 onnante architecture ( le corps) qui le pousse à  débuter des étud
 es d’ostéopathie à Paris. Parallèlement, par la sophrologie, la p
 sychologie et la psychothérapie, qu'il  découvre l’interrelation 
 corps - esprit.\n\nPour plus d'information, aller sur https://epanews.
 fr/events/atelier-gestes-ost-opathiques-simples-sur-les-fascias
DTSTART;TZID=Europe/Paris:20180317T140000
DTEND;TZID=Europe/Paris:20180317T170000
CATEGORIES:69
LOCATION:69003
WEBSITE:http://l&#039;ost&eacute;opathie pour tous
URL:http://l&#039;ost&eacute;opathie pour tous
CONTACT:0622802019
ORGANIZER:Pierre goett
ATTACH;FMTTYPE="image/jpeg":http://storage.ning.com/topology/rest/1.0/
 file/get/1663726681?profile=original
ATTENDEE;ROLE=REQ-PARTICIPANT;PARTSTAT=ACCEPTED;RSVP=TRUE;CN=SALVAGION
 E:https://epanews.fr/profile/SALVAGIONE
END:VEVENT
END:VCALENDAR
