BEGIN:VCALENDAR
PRODID:NingEventWidget-v1
VERSION:2.0
METHOD:PUBLISH
BEGIN:VTIMEZONE
TZID:Europe/Paris
X-LIC-LOCATION:Europe/Paris
BEGIN:DAYLIGHT
TZOFFSETFROM:+0100
TZOFFSETTO:+0200
TZNAME:CEST
DTSTART:19700329T020000
RRULE:FREQ=YEARLY;BYMONTH=3;BYDAY=-1SU
END:DAYLIGHT
BEGIN:STANDARD
TZOFFSETFROM:+0200
TZOFFSETTO:+0100
TZNAME:CET
DTSTART:19701025T030000
RRULE:FREQ=YEARLY;BYMONTH=10;BYDAY=-1SU
END:STANDARD
END:VTIMEZONE
BEGIN:VEVENT
UID:2485226:Event:2933297
DTSTAMP:20260421T202725Z
SUMMARY:atelier fromages vÃ©gÃ©taux dimanche 18 fÃ©vrier cagnes sur me
 r
DESCRIPTION:Apprenez Ã  rÃ©alisez vos fromages vÃ©gÃ©taux sans lactose
 , des recettes surprenantes, originales et savoureuses avec des ingrÃ©
 dients peu communs... Â \npour les intolÃ©rants au lactose ou les curi
 eux de nouvelles saveurs issues du monde vÃ©gÃ©tal...\nÂ \nÂ  Â  Â  Â 
  Â  Â  Â  Â  Â  Â  Â  Â  Â  Â  Â  Â  Â  Â  Â  Â  Â  Â  Â  Â  Â  Â  Â  
 Â  Â  Â  Â  Â  Â  Â  Â  Â  Â  Â  Â  Â  Â  Â  Â  Â  Â  Â  Â  Â  Â  Â  Â
  Â Â Participation 40 euros\nau plaisir de partager cet atelier avec v
 ous !\n\n\nPour plus d'information, aller sur https://epanews.fr/event
 s/atelier-fromages-v-g-taux-dimanche-18-f-vrier-cagnes-sur-mer
DTSTART;TZID=Europe/Paris:20180218T160000
DTEND;TZID=Europe/Paris:20180218T183000
CATEGORIES:06
LOCATION:CAGNES SUR MER
WEBSITE:
URL:
CONTACT:0619723814
ORGANIZER;CN=luciecagnes:https://epanews.fr/profile/luciecagnes
ATTACH;FMTTYPE="image/jpeg":
ATTENDEE;ROLE=REQ-PARTICIPANT;PARTSTAT=ACCEPTED;RSVP=TRUE;CN=luciecagn
 es:https://epanews.fr/profile/luciecagnes
END:VEVENT
END:VCALENDAR
